Workbook

Sheet Pools
B1: PYRF girls U18/U16
B2: RC Slavia Praha April 11, 2026
B3: Rozdělení do skupin/Seeding of the Pools
B5: Girls U16 | F5: Pool A | I5: Pool B | L5: Pool C
B6: 1 | C6: Říčany / Petrovice (CZE) | F6: A1 | G6: Říčany / Petrovice | I6: B1 | J6: National team of Ukraine | L6: C1 | M6: Hunion 7s
B7: 2 | C7: National team of Ukraine (UKR) | F7: A2 | G7: ABC team BLUE | I7: B2 | J7: Czech girls 7s | L7: C2 | M7: Tatra / Babice
B8: 3 | C8: Hunion 7s (HUN) | F8: A3 | G8: Rugby Club LIVONIA | I8: B3 | J8: ABC team PINK | L8: C3 | M8: Rugby Club VAIRAS
B9: 4 | C9: Tatra / Babice (CZE)
B10: 5 | C10: Czech girls 7s (CZE) | F10: Pool Cup (D) | I10: Pool Plate E | L10: Pool Bowl (F)
B11: 6 | C11: ABC team BLUE (IRE) | F11: D1 | G11: Říčany / Petrovice | I11: E1 | J11: Rugby Club LIVONIA | L11: F1 | M11: ABC team BLUE
B12: 7 | C12: Rugby Club LIVONIA (LVA) | F12: D2 | G12: Czech girls 7s | I12: E2 | J12: National team of Ukraine | L12: F2 | M12: ABC team PINK
B13: 8 | C13: ABC team PINK (IRE) | F13: D3 | G13: Rugby Club VAIRAS | I13: E3 | J13: Tatra / Babice | L13: F3 | M13: Hunion 7s
B14: 9 | C14: Rugby Club VAIRAS (LTU)
B17: Girls U18
B18: 1 | C18: ABC U18 girls (IRE)
B19: 2 | C19: Moravia Rugby (CZE)

Sheet Matches
B1: =Pools!B1 -> PYRF girls U18/U16
B2: =Pools!B2 -> RC Slavia Praha April 11, 2026
B3: Pořadí zápasů / Timetable
M4: Statistics / Statistik | AR4: First Team / Home | AV4: Second Team / Away
B5: zápas | C5: čas | I5: výsledek | M5: try | Q5: conversion | U5: penalty | Y5: dropgoal | AC5: sent off | AG5: sin bin | AK5: check | AN5: points | AR5: won | AS5: drawn | AT5: lost | AV5: won | AW5: drawn | AX5: lost
B6: match | C6: time | I6: score | M6: essai | Q6: transformation | U6: pénalité | Y6: drop | AC6: carton rouge | AG6: carton jaune | AN6: points | AR6: victoire | AS6: égalité | AT6: défaite | AV6: victoire | AW6: égalité | AX6: défaite
F7: 2. | M7: Versuch | Q7: Erhöhung | U7: Strafkick | Y7: Dropkick | AC7: Rot | AG7: Gelb | AK7: Prüfung | AN7: Punkte | AR7: Sieg | AS7: Unent. | AT7: Niederl. | AV7: Sieg | AW7: Unent. | AX7: Niederl.
B9: U16 | C9: 0.41666667 | D9: A1 | E9: =Pools!G6 -> Říčany / Petrovice | F9: - | G9: =Pools!G8 -> Rugby Club LIVONIA | H9: A3 | I9: 46 | J9: : | K9: 0 | N9: : | R9: : | V9: : | Z9: : | AD9: : | AH9: : | AK9: =(M9+O9)*5+(Q9+S9)*2+(U9+W9)*3+(Y9+AA9)*3 -> 0 | AL9: =IF(AK9=0," ",IF(AK9=(I9+K9),"ok","false")) | AN9: =IF(ISBLANK(I9)," ",IF(I9>K9,3,IF(I9=K9,2,1))) -> 3 | AO9: : | AP9: =IF(ISBLANK(K9)," ",IF(K9>I9,3,IF(K9=I9,2,1))) -> 1 | AR9: =IF($AN9=" "," ",IF($AN9=3,1," ")) -> 1 | AS9: =IF($AN9=" "," ",IF($AN9=2,1," ")) | AT9: =IF($AN9=" "," ",IF($AN9=1,1," ")) | AV9: =IF($AP9=" "," ",IF($AP9=3,1," ")) | AW9: =IF($AP9=" "," ",IF($AP9=2,1," ")) | AX9: =IF($AP9=" "," ",IF($AP9=1,1," ")) -> 1
B10: U16 | C10: 0.43055556 | D10: B1 | E10: =Pools!J6 -> National team of Ukraine | F10: - | G10: =Pools!J8 -> ABC team PINK | H10: B3 | I10: 54 | J10: : | K10: 0 | N10: : | R10: : | V10: : | Z10: : | AD10: : | AH10: : | AK10: =(M10+O10)*5+(Q10+S10)*2+(U10+W10)*3+(Y10+AA10)*3 -> 0 | AL10: =IF(AK10=0," ",IF(AK10=(I10+K10),"ok","false")) | AN10: =IF(ISBLANK(I10)," ",IF(I10>K10,3,IF(I10=K10,2,1))) -> 3 | AO10: : | AP10: =IF(ISBLANK(K10)," ",IF(K10>I10,3,IF(K10=I10,2,1))) -> 1 | AR10: =IF($AN10=" "," ",IF($AN10=3,1," ")) -> 1 | AS10: =IF($AN10=" "," ",IF($AN10=2,1," ")) | AT10: =IF($AN10=" "," ",IF($AN10=1,1," ")) | AV10: =IF($AP10=" "," ",IF($AP10=3,1," ")) | AW10: =IF($AP10=" "," ",IF($AP10=2,1," ")) | AX10: =IF($AP10=" "," ",IF($AP10=1,1," ")) -> 1
B11: U16 | C11: 0.44444444 | D11: C1 | E11: =Pools!M6 -> Hunion 7s | F11: - | G11: =Pools!M8 -> Rugby Club VAIRAS | H11: C3 | I11: 12 | J11: : | K11: 28 | N11: : | R11: : | V11: : | Z11: : | AD11: : | AH11: : | AK11: =(M11+O11)*5+(Q11+S11)*2+(U11+W11)*3+(Y11+AA11)*3 -> 0 | AL11: =IF(AK11=0," ",IF(AK11=(I11+K11),"ok","false")) | AN11: =IF(ISBLANK(I11)," ",IF(I11>K11,3,IF(I11=K11,2,1))) -> 1 | AO11: : | AP11: =IF(ISBLANK(K11)," ",IF(K11>I11,3,IF(K11=I11,2,1))) -> 3 | AR11: =IF($AN11=" "," ",IF($AN11=3,1," ")) | AS11: =IF($AN11=" "," ",IF($AN11=2,1," ")) | AT11: =IF($AN11=" "," ",IF($AN11=1,1," ")) -> 1 | AV11: =IF($AP11=" "," ",IF($AP11=3,1," ")) -> 1 | AW11: =IF($AP11=" "," ",IF($AP11=2,1," ")) | AX11: =IF($AP11=" "," ",IF($AP11=1,1," "))
B12: U18 | C12: 0.45833333 | E12: ABC U18 Girls | F12: - | G12: Moravia Rugby | I12: 17 | K12: 25
B13: U16 | C13: 0.47222222 | D13: A3 | E13: =Pools!G8 -> Rugby Club LIVONIA | F13: - | G13: =Pools!G7 -> ABC team BLUE | H13: A2 | I13: 38 | J13: : | K13: 10 | N13: : | R13: : | V13: : | Z13: : | AD13: : | AH13: : | AK13: =(M13+O13)*5+(Q13+S13)*2+(U13+W13)*3+(Y13+AA13)*3 -> 0 | AL13: =IF(AK13=0," ",IF(AK13=(I13+K13),"ok","false")) | AN13: =IF(ISBLANK(I13)," ",IF(I13>K13,3,IF(I13=K13,2,1))) -> 3 | AO13: : | AP13: =IF(ISBLANK(K13)," ",IF(K13>I13,3,IF(K13=I13,2,1))) -> 1 | AR13: =IF($AN13=" "," ",IF($AN13=3,1," ")) -> 1 | AS13: =IF($AN13=" "," ",IF($AN13=2,1," ")) | AT13: =IF($AN13=" "," ",IF($AN13=1,1," ")) | AV13: =IF($AP13=" "," ",IF($AP13=3,1," ")) | AW13: =IF($AP13=" "," ",IF($AP13=2,1," ")) | AX13: =IF($AP13=" "," ",IF($AP13=1,1," ")) -> 1
B14: U16 | C14: 0.48611111 | D14: B3 | E14: =Pools!J8 -> ABC team PINK | F14: - | G14: =Pools!J7 -> Czech girls 7s | H14: B2 | I14: 0 | J14: : | K14: 43 | N14: : | R14: : | V14: : | Z14: : | AD14: : | AH14: : | AK14: =(M14+O14)*5+(Q14+S14)*2+(U14+W14)*3+(Y14+AA14)*3 -> 0 | AL14: =IF(AK14=0," ",IF(AK14=(I14+K14),"ok","false")) | AN14: =IF(ISBLANK(I14)," ",IF(I14>K14,3,IF(I14=K14,2,1))) -> 1 | AO14: : | AP14: =IF(ISBLANK(K14)," ",IF(K14>I14,3,IF(K14=I14,2,1))) -> 3 | AR14: =IF($AN14=" "," ",IF($AN14=3,1," ")) | AS14: =IF($AN14=" "," ",IF($AN14=2,1," ")) | AT14: =IF($AN14=" "," ",IF($AN14=1,1," ")) -> 1 | AV14: =IF($AP14=" "," ",IF($AP14=3,1," ")) -> 1 | AW14: =IF($AP14=" "," ",IF($AP14=2,1," ")) | AX14: =IF($AP14=" "," ",IF($AP14=1,1," "))
B15: U16 | C15: 0.5 | D15: C3 | E15: =Pools!M8 -> Rugby Club VAIRAS | F15: - | G15: =Pools!M7 -> Tatra / Babice | H15: C2 | I15: 32 | J15: : | K15: 10 | N15: : | R15: : | V15: : | Z15: : | AD15: : | AH15: : | AK15: =(M15+O15)*5+(Q15+S15)*2+(U15+W15)*3+(Y15+AA15)*3 -> 0 | AL15: =IF(AK15=0," ",IF(AK15=(I15+K15),"ok","false")) | AN15: =IF(ISBLANK(I15)," ",IF(I15>K15,3,IF(I15=K15,2,1))) -> 3 | AO15: : | AP15: =IF(ISBLANK(K15)," ",IF(K15>I15,3,IF(K15=I15,2,1))) -> 1 | AR15: =IF($AN15=" "," ",IF($AN15=3,1," ")) -> 1 | AS15: =IF($AN15=" "," ",IF($AN15=2,1," ")) | AT15: =IF($AN15=" "," ",IF($AN15=1,1," ")) | AV15: =IF($AP15=" "," ",IF($AP15=3,1," ")) | AW15: =IF($AP15=" "," ",IF($AP15=2,1," ")) | AX15: =IF($AP15=" "," ",IF($AP15=1,1," ")) -> 1
B16: U18 | C16: 0.51388889 | E16: Moravia Rugby | F16: - | G16: ABC U18 Girls | I16: 5 | K16: 34 | AN16: =IF(ISBLANK(I16)," ",IF(I16>K16,3,IF(I16=K16,2,1))) -> 1 | AP16: =IF(ISBLANK(K16)," ",IF(K16>I16,3,IF(K16=I16,2,1))) -> 3 | AR16: =IF($AN16=" "," ",IF($AN16=3,1," ")) | AS16: =IF($AN16=" "," ",IF($AN16=2,1," ")) | AT16: =IF($AN16=" "," ",IF($AN16=1,1," ")) -> 1 | AV16: =IF($AP16=" "," ",IF($AP16=3,1," ")) -> 1 | AW16: =IF($AP16=" "," ",IF($AP16=2,1," ")) | AX16: =IF($AP16=" "," ",IF($AP16=1,1," "))
B17: U16 | C17: 0.52777778 | D17: A2 | E17: =Pools!G7 -> ABC team BLUE | F17: - | G17: =Pools!G6 -> Říčany / Petrovice | H17: A1 | I17: 0 | J17: : | K17: 53 | N17: : | R17: : | V17: : | Z17: : | AD17: : | AH17: : | AK17: =(M17+O17)*5+(Q17+S17)*2+(U17+W17)*3+(Y17+AA17)*3 -> 0 | AL17: =IF(AK17=0," ",IF(AK17=(I17+K17),"ok","false")) | AN17: =IF(ISBLANK(I17)," ",IF(I17>K17,3,IF(I17=K17,2,1))) -> 1 | AO17: : | AP17: =IF(ISBLANK(K17)," ",IF(K17>I17,3,IF(K17=I17,2,1))) -> 3 | AR17: =IF($AN17=" "," ",IF($AN17=3,1," ")) | AS17: =IF($AN17=" "," ",IF($AN17=2,1," ")) | AT17: =IF($AN17=" "," ",IF($AN17=1,1," ")) -> 1 | AV17: =IF($AP17=" "," ",IF($AP17=3,1," ")) -> 1 | AW17: =IF($AP17=" "," ",IF($AP17=2,1," ")) | AX17: =IF($AP17=" "," ",IF($AP17=1,1," "))
B18: U16 | C18: 0.54166667 | D18: B2 | E18: =Pools!J7 -> Czech girls 7s | F18: - | G18: =Pools!J6 -> National team of Ukraine | H18: B1 | I18: 15 | J18: : | K18: 12 | N18: : | R18: : | V18: : | Z18: : | AD18: : | AH18: : | AK18: =(M18+O18)*5+(Q18+S18)*2+(U18+W18)*3+(Y18+AA18)*3 -> 0 | AL18: =IF(AK18=0," ",IF(AK18=(I18+K18),"ok","false")) | AN18: =IF(ISBLANK(I18)," ",IF(I18>K18,3,IF(I18=K18,2,1))) -> 3 | AO18: : | AP18: =IF(ISBLANK(K18)," ",IF(K18>I18,3,IF(K18=I18,2,1))) -> 1 | AR18: =IF($AN18=" "," ",IF($AN18=3,1," ")) -> 1 | AS18: =IF($AN18=" "," ",IF($AN18=2,1," ")) | AT18: =IF($AN18=" "," ",IF($AN18=1,1," ")) | AV18: =IF($AP18=" "," ",IF($AP18=3,1," ")) | AW18: =IF($AP18=" "," ",IF($AP18=2,1," ")) | AX18: =IF($AP18=" "," ",IF($AP18=1,1," ")) -> 1
B19: U16 | C19: 0.55555556 | D19: C2 | E19: =Pools!M7 -> Tatra / Babice | F19: - | G19: =Pools!M6 -> Hunion 7s | H19: C1 | I19: 31 | J19: : | K19: 12 | N19: : | R19: : | V19: : | Z19: : | AD19: : | AH19: : | AK19: =(M19+O19)*5+(Q19+S19)*2+(U19+W19)*3+(Y19+AA19)*3 -> 0 | AL19: =IF(AK19=0," ",IF(AK19=(I19+K19),"ok","false")) | AN19: =IF(ISBLANK(I19)," ",IF(I19>K19,3,IF(I19=K19,2,1))) -> 3 | AO19: : | AP19: =IF(ISBLANK(K19)," ",IF(K19>I19,3,IF(K19=I19,2,1))) -> 1 | AR19: =IF($AN19=" "," ",IF($AN19=3,1," ")) -> 1 | AS19: =IF($AN19=" "," ",IF($AN19=2,1," ")) | AT19: =IF($AN19=" "," ",IF($AN19=1,1," ")) | AV19: =IF($AP19=" "," ",IF($AP19=3,1," ")) | AW19: =IF($AP19=" "," ",IF($AP19=2,1," ")) | AX19: =IF($AP19=" "," ",IF($AP19=1,1," ")) -> 1
B20: U16 | C20: 0.56944444 | D20: F1 | E20: =Pools!M11 -> ABC team BLUE | F20: - | G20: =Pools!M13 -> Hunion 7s | H20: F3 | I20: 14 | J20: : | K20: 26 | N20: : | R20: : | V20: : | Z20: : | AD20: : | AH20: : | AK20: =(M20+O20)*5+(Q20+S20)*2+(U20+W20)*3+(Y20+AA20)*3 -> 0 | AL20: =IF(AK20=0," ",IF(AK20=(I20+K20),"ok","false")) | AN20: =IF(ISBLANK(I20)," ",IF(I20>K20,3,IF(I20=K20,2,1))) -> 1 | AO20: : | AP20: =IF(ISBLANK(K20)," ",IF(K20>I20,3,IF(K20=I20,2,1))) -> 3 | AR20: =IF($AN20=" "," ",IF($AN20=3,1," ")) | AS20: =IF($AN20=" "," ",IF($AN20=2,1," ")) | AT20: =IF($AN20=" "," ",IF($AN20=1,1," ")) -> 1 | AV20: =IF($AP20=" "," ",IF($AP20=3,1," ")) -> 1 | AW20: =IF($AP20=" "," ",IF($AP20=2,1," ")) | AX20: =IF($AP20=" "," ",IF($AP20=1,1," "))
B21: U16 | C21: 0.58333333 | D21: E1 | E21: =Pools!J11 -> Rugby Club LIVONIA | F21: - | G21: =Pools!J13 -> Tatra / Babice | H21: E3 | I21: 0 | J21: : | K21: 36 | N21: : | R21: : | V21: : | Z21: : | AD21: : | AH21: : | AK21: =(M21+O21)*5+(Q21+S21)*2+(U21+W21)*3+(Y21+AA21)*3 -> 0 | AL21: =IF(AK21=0," ",IF(AK21=(I21+K21),"ok","false")) | AN21: =IF(ISBLANK(I21)," ",IF(I21>K21,3,IF(I21=K21,2,1))) -> 1 | AO21: : | AP21: =IF(ISBLANK(K21)," ",IF(K21>I21,3,IF(K21=I21,2,1))) -> 3 | AR21: =IF($AN21=" "," ",IF($AN21=3,1," ")) | AS21: =IF($AN21=" "," ",IF($AN21=2,1," ")) | AT21: =IF($AN21=" "," ",IF($AN21=1,1," ")) -> 1 | AV21: =IF($AP21=" "," ",IF($AP21=3,1," ")) -> 1 | AW21: =IF($AP21=" "," ",IF($AP21=2,1," ")) | AX21: =IF($AP21=" "," ",IF($AP21=1,1," "))
B22: U16 | C22: 0.59722222 | D22: D1 | E22: =Pools!G11 -> Říčany / Petrovice | F22: - | G22: =Pools!G13 -> Rugby Club VAIRAS | H22: D3 | I22: 33 | J22: : | K22: 5 | N22: : | R22: : | V22: : | Z22: : | AD22: : | AH22: : | AK22: =(M22+O22)*5+(Q22+S22)*2+(U22+W22)*3+(Y22+AA22)*3 -> 0 | AL22: =IF(AK22=0," ",IF(AK22=(I22+K22),"ok","false")) | AN22: =IF(ISBLANK(I22)," ",IF(I22>K22,3,IF(I22=K22,2,1))) -> 3 | AO22: : | AP22: =IF(ISBLANK(K22)," ",IF(K22>I22,3,IF(K22=I22,2,1))) -> 1 | AR22: =IF($AN22=" "," ",IF($AN22=3,1," ")) -> 1 | AS22: =IF($AN22=" "," ",IF($AN22=2,1," ")) | AT22: =IF($AN22=" "," ",IF($AN22=1,1," ")) | AV22: =IF($AP22=" "," ",IF($AP22=3,1," ")) | AW22: =IF($AP22=" "," ",IF($AP22=2,1," ")) | AX22: =IF($AP22=" "," ",IF($AP22=1,1," ")) -> 1
B23: U18 | C23: 0.61111111 | E23: ABC U18 Girls | F23: - | G23: Moravia Rugby | I23: 38 | J23: : | K23: 17 | AN23: =IF(ISBLANK(I23)," ",IF(I23>K23,3,IF(I23=K23,2,1))) -> 3 | AP23: =IF(ISBLANK(K23)," ",IF(K23>I23,3,IF(K23=I23,2,1))) -> 1 | AR23: =IF($AN23=" "," ",IF($AN23=3,1," ")) -> 1 | AS23: =IF($AN23=" "," ",IF($AN23=2,1," ")) | AT23: =IF($AN23=" "," ",IF($AN23=1,1," ")) | AV23: =IF($AP23=" "," ",IF($AP23=3,1," ")) | AW23: =IF($AP23=" "," ",IF($AP23=2,1," ")) | AX23: =IF($AP23=" "," ",IF($AP23=1,1," ")) -> 1
B24: U16 | C24: 0.625 | D24: F3 | E24: =Pools!M13 -> Hunion 7s | F24: - | G24: =Pools!M12 -> ABC team PINK | H24: F2 | I24: 40 | J24: : | K24: 21 | N24: : | R24: : | V24: : | Z24: : | AD24: : | AH24: : | AK24: =(M24+O24)*5+(Q24+S24)*2+(U24+W24)*3+(Y24+AA24)*3 -> 0 | AL24: =IF(AK24=0," ",IF(AK24=(I24+K24),"ok","false")) | AN24: =IF(ISBLANK(I24)," ",IF(I24>K24,3,IF(I24=K24,2,1))) -> 3 | AO24: : | AP24: =IF(ISBLANK(K24)," ",IF(K24>I24,3,IF(K24=I24,2,1))) -> 1 | AR24: =IF($AN24=" "," ",IF($AN24=3,1," ")) -> 1 | AS24: =IF($AN24=" "," ",IF($AN24=2,1," ")) | AT24: =IF($AN24=" "," ",IF($AN24=1,1," ")) | AV24: =IF($AP24=" "," ",IF($AP24=3,1," ")) | AW24: =IF($AP24=" "," ",IF($AP24=2,1," ")) | AX24: =IF($AP24=" "," ",IF($AP24=1,1," ")) -> 1
B25: U16 | C25: 0.63888889 | D25: E3 | E25: =Pools!J13 -> Tatra / Babice | F25: - | G25: =Pools!J12 -> National team of Ukraine | H25: E2 | I25: 7 | J25: : | K25: 38 | N25: : | R25: : | V25: : | Z25: : | AD25: : | AH25: : | AK25: =(M25+O25)*5+(Q25+S25)*2+(U25+W25)*3+(Y25+AA25)*3 -> 0 | AL25: =IF(AK25=0," ",IF(AK25=(I25+K25),"ok","false")) | AN25: =IF(ISBLANK(I25)," ",IF(I25>K25,3,IF(I25=K25,2,1))) -> 1 | AO25: : | AP25: =IF(ISBLANK(K25)," ",IF(K25>I25,3,IF(K25=I25,2,1))) -> 3 | AR25: =IF($AN25=" "," ",IF($AN25=3,1," ")) | AS25: =IF($AN25=" "," ",IF($AN25=2,1," ")) | AT25: =IF($AN25=" "," ",IF($AN25=1,1," ")) -> 1 | AV25: =IF($AP25=" "," ",IF($AP25=3,1," ")) -> 1 | AW25: =IF($AP25=" "," ",IF($AP25=2,1," ")) | AX25: =IF($AP25=" "," ",IF($AP25=1,1," "))
B26: U16 | C26: 0.65277778 | D26: D3 | E26: =Pools!G13 -> Rugby Club VAIRAS | F26: - | G26: =Pools!G12 -> Czech girls 7s | H26: D2 | I26: 5 | J26: : | K26: 57 | N26: : | R26: : | V26: : | Z26: : | AD26: : | AH26: : | AK26: =(M26+O26)*5+(Q26+S26)*2+(U26+W26)*3+(Y26+AA26)*3 -> 0 | AL26: =IF(AK26=0," ",IF(AK26=(I26+K26),"ok","false")) | AN26: =IF(ISBLANK(I26)," ",IF(I26>K26,3,IF(I26=K26,2,1))) -> 1 | AO26: : | AP26: =IF(ISBLANK(K26)," ",IF(K26>I26,3,IF(K26=I26,2,1))) -> 3 | AR26: =IF($AN26=" "," ",IF($AN26=3,1," ")) | AS26: =IF($AN26=" "," ",IF($AN26=2,1," ")) | AT26: =IF($AN26=" "," ",IF($AN26=1,1," ")) -> 1 | AV26: =IF($AP26=" "," ",IF($AP26=3,1," ")) -> 1 | AW26: =IF($AP26=" "," ",IF($AP26=2,1," ")) | AX26: =IF($AP26=" "," ",IF($AP26=1,1," "))
B27: U16 | C27: 0.66666667 | D27: F2 | E27: =Pools!M12 -> ABC team PINK | F27: - | G27: =Pools!M11 -> ABC team BLUE | H27: F1 | I27: clx | J27: : | K27: clx | N27: : | R27: : | V27: : | Z27: : | AD27: : | AH27: : | AK27: =(M27+O27)*5+(Q27+S27)*2+(U27+W27)*3+(Y27+AA27)*3 -> 0 | AL27: =IF(AK27=0," ",IF(AK27=(I27+K27),"ok","false")) | AN27: =IF(ISBLANK(I27)," ",IF(I27>K27,3,IF(I27=K27,2,1))) -> 2 | AO27: : | AP27: =IF(ISBLANK(K27)," ",IF(K27>I27,3,IF(K27=I27,2,1))) -> 2 | AR27: =IF($AN27=" "," ",IF($AN27=3,1," ")) | AS27: =IF($AN27=" "," ",IF($AN27=2,1," ")) -> 1 | AT27: =IF($AN27=" "," ",IF($AN27=1,1," ")) | AV27: =IF($AP27=" "," ",IF($AP27=3,1," ")) | AW27: =IF($AP27=" "," ",IF($AP27=2,1," ")) -> 1 | AX27: =IF($AP27=" "," ",IF($AP27=1,1," "))
B28: U16 | C28: 0.68055556 | D28: E2 | E28: =Pools!J12 -> National team of Ukraine | F28: - | G28: =Pools!J11 -> Rugby Club LIVONIA | H28: E1 | I28: 48 | J28: : | K28: 7 | N28: : | R28: : | V28: : | Z28: : | AD28: : | AH28: : | AK28: =(M28+O28)*5+(Q28+S28)*2+(U28+W28)*3+(Y28+AA28)*3 -> 0 | AL28: =IF(AK28=0," ",IF(AK28=(I28+K28),"ok","false")) | AN28: =IF(ISBLANK(I28)," ",IF(I28>K28,3,IF(I28=K28,2,1))) -> 3 | AO28: : | AP28: =IF(ISBLANK(K28)," ",IF(K28>I28,3,IF(K28=I28,2,1))) -> 1 | AR28: =IF($AN28=" "," ",IF($AN28=3,1," ")) -> 1 | AS28: =IF($AN28=" "," ",IF($AN28=2,1," ")) | AT28: =IF($AN28=" "," ",IF($AN28=1,1," ")) | AV28: =IF($AP28=" "," ",IF($AP28=3,1," ")) | AW28: =IF($AP28=" "," ",IF($AP28=2,1," ")) | AX28: =IF($AP28=" "," ",IF($AP28=1,1," ")) -> 1
B29: U16 | C29: 0.69444444 | D29: D2 | E29: =Pools!G12 -> Czech girls 7s | F29: - | G29: =Pools!G11 -> Říčany / Petrovice | H29: D1 | I29: 40 | J29: : | K29: 12 | N29: : | R29: : | V29: : | Z29: : | AD29: : | AH29: : | AK29: =(M29+O29)*5+(Q29+S29)*2+(U29+W29)*3+(Y29+AA29)*3 -> 0 | AL29: =IF(AK29=0," ",IF(AK29=(I29+K29),"ok","false")) | AN29: =IF(ISBLANK(I29)," ",IF(I29>K29,3,IF(I29=K29,2,1))) -> 3 | AO29: : | AP29: =IF(ISBLANK(K29)," ",IF(K29>I29,3,IF(K29=I29,2,1))) -> 1 | AR29: =IF($AN29=" "," ",IF($AN29=3,1," ")) -> 1 | AS29: =IF($AN29=" "," ",IF($AN29=2,1," ")) | AT29: =IF($AN29=" "," ",IF($AN29=1,1," ")) | AV29: =IF($AP29=" "," ",IF($AP29=3,1," ")) | AW29: =IF($AP29=" "," ",IF($AP29=2,1," ")) | AX29: =IF($AP29=" "," ",IF($AP29=1,1," ")) -> 1

Sheet Final Standing
B1: =Pools!B1 -> PYRF girls U18/U16
B2: =Pools!B2 -> RC Slavia Praha April 11, 2026
B3: Konečné pořadí / Final Standing
B6: U16 7s GIRLS final standing
B7: 1. | C7: Czech girls 7s (CZE)
B8: 2. | C8: Říčany / Petrovice (CZE)
B9: 3. | C9: Rugby Club VAIRAS (LTU)
B10: 4. | C10: National team of Ukraine (UKR)
B11: 5. | C11: Tatra / Babice (CZE)
B12: 6. | C12: Rugby Club LIVONIA (LVA)
B13: 7. | C13: Hunion 7s (HUN)
B14: 8.-9. | C14: ABC team BLUE (IRE)
B15: 8.-9. | C15: ABC team PINK (IRE)
B18: U18 7s GIRLS final standing
B19: 1. | C19: ABC U18 girls (IRE)
B20: 2. | C20: Moravia Rugby (CZE)
