Workbook
Name asdasdasd: #REF!
Name cas: #REF!
Name cas: #REF!
Name cas: #REF!
Name cas: #REF!
Name cas: #REF!
Name cas: #REF!
Name cas: #REF!
Name cas: #REF!
Name cas: #REF!
Name cas: #REF!
Name cas: #REF!
Name cas: #REF!
Name cas: #REF!
Name cas: #REF!
Name čas: #REF!
Name čas: #REF!
Name čas: #REF!
Name čas: #REF!
Name čas: #REF!
Name čas: #REF!
Name čas: #REF!
Name čas: #REF!
Name čas: #REF!
Name čas: #REF!
Name čas: #REF!
Name čas: #REF!
Name čas: #REF!
Name čas: #REF!
Name čas5: #REF!
Name čas5: #REF!
Name čas5: #REF!
Name čas5: #REF!
Name čas5: #REF!
Name čas5: #REF!
Name čas5: #REF!
Name čas5: #REF!
Name čas5: #REF!
Name čas5: #REF!
Name čas5: #REF!
Name čas5: #REF!
Name čas5: #REF!
Name čas5: #REF!
Name časpokus: #REF!
Name časpokus: #REF!
Name časpokus: #REF!
Name časpokus: #REF!
Name časpokus: #REF!
Name časpokus: #REF!
Name časpokus: #REF!
Name časpokus: #REF!
Name časpokus: #REF!
Name časpokus: #REF!
Name časpokus: #REF!
Name časpokus: #REF!
Name časpokus: #REF!
Name časpokus: #REF!
Name času9: #REF!
Name času9: #REF!
Name času9: #REF!

Sheet ADMIN
A1: Datum | J1: A | K1: B | L1: C | M1: D | N1: E | O1: F | P1: Pořadí | Q1: A | R1: B | S1: C | T1: D | U1: E | V1: F | X1: 1-6 | Y1: 7-12 | Z1: 13-18 | AA1: Plate I | AB1: Plate II | AD1: Pořadí | AE1: P I | AF1: P II
A2: Jarní PYRF 09.04.2022 | H2: RC Sparta Praha | J2: RC Mountfield Říčany A | K2: Tatra Smíchov A | L2: RK Petrovice A | M2: RC Praga Praha A | N2: Bystrc A | O2: SC Frankfurt A | P2: 1 | Q2: =_xlfn.XLOOKUP($P2,'4'!C:C,'4'!B:B,0) -> 0 | R2: =_xlfn.XLOOKUP($P2,#REF!,#REF!,0) -> #REF! | S2: =_xlfn.XLOOKUP($P2,#REF!,#REF!,0) -> #REF! | T2: =_xlfn.XLOOKUP($P2,#REF!,#REF!,0) -> #REF! | U2: =_xlfn.XLOOKUP($P2,'5'!C:C,'5'!B:B,0) -> 0 | V2: =_xlfn.XLOOKUP($P2,#REF!,#REF!,0) -> #REF! | X2: =Q2 -> 0 | Y2: =Q3 -> 0 | Z2: =Q4 -> 0 | AA2: =Q5 -> 0 | AB2: =V5 -> #REF! | AD2: 4 | AE2: =_xlfn.XLOOKUP($AD2,#REF!,#REF!,0) -> #REF! | AF2: =_xlfn.XLOOKUP($AD2,#REF!,#REF!,0) -> #REF!
H3: RC Praga Praha A | J3: SC Frankfurt B | K3: Vairas | L3: Mitava | M3: RC Šumava Nýrsko | N3: RC Kralupy nad Vltavou | O3: RC Mountfield Říčany B | P3: 2 | Q3: =_xlfn.XLOOKUP($P3,'4'!C:C,'4'!B:B,0) -> 0 | R3: =_xlfn.XLOOKUP($P3,#REF!,#REF!,0) -> #REF! | S3: =_xlfn.XLOOKUP($P3,#REF!,#REF!,0) -> #REF! | T3: =_xlfn.XLOOKUP($P3,#REF!,#REF!,0) -> #REF! | U3: =_xlfn.XLOOKUP($P3,'5'!C:C,'5'!B:B,0) -> 0 | V3: =_xlfn.XLOOKUP($P3,#REF!,#REF!,0) -> #REF! | X3: =R2 -> #REF! | Y3: =R3 -> #REF! | Z3: =R4 -> #REF! | AA3: =R5 -> #REF! | AB3: =T5 -> #REF! | AD3: 3 | AE3: =_xlfn.XLOOKUP($AD3,#REF!,#REF!,0) -> #REF! | AF3: =_xlfn.XLOOKUP($AD3,#REF!,#REF!,0) -> #REF!
H4: RC Praga Praha B | J4: RC Dragon Brno | K4: Bystrc B | L4: ARC Iuridica | M4: RC Jimi Vyškov | N4: SC Frankfurt C | O4: RC Sparta Praha | P4: 3 | Q4: =_xlfn.XLOOKUP($P4,'4'!C:C,'4'!B:B,0) -> 0 | R4: =_xlfn.XLOOKUP($P4,#REF!,#REF!,0) -> #REF! | S4: =_xlfn.XLOOKUP($P4,#REF!,#REF!,0) -> #REF! | T4: =_xlfn.XLOOKUP($P4,#REF!,#REF!,0) -> #REF! | U4: =_xlfn.XLOOKUP($P4,'5'!C:C,'5'!B:B,0) -> 0 | V4: =_xlfn.XLOOKUP($P4,#REF!,#REF!,0) -> #REF! | X4: =S2 -> #REF! | Y4: =S3 -> #REF! | Z4: =S4 -> #REF! | AA4: =U5 -> 0 | AB4: =S5 -> #REF! | AD4: 2 | AE4: =_xlfn.XLOOKUP($AD4,#REF!,#REF!,0) -> #REF! | AF4: =_xlfn.XLOOKUP($AD4,#REF!,#REF!,0) -> #REF!
H5: RK Petrovice A | J5: RC Slavia Praha | K5: Rugby Babice | L5: RA Brno | M5: Tatra Smíchov B | N5: RA Olymp Praha | O5: RC Olomouc | P5: 4 | Q5: =_xlfn.XLOOKUP($P5,'4'!C:C,'4'!B:B,0) -> 0 | R5: =_xlfn.XLOOKUP($P5,#REF!,#REF!,0) -> #REF! | S5: =_xlfn.XLOOKUP($P5,#REF!,#REF!,0) -> #REF! | T5: =_xlfn.XLOOKUP($P5,#REF!,#REF!,0) -> #REF! | U5: =_xlfn.XLOOKUP($P5,'5'!C:C,'5'!B:B,0) -> 0 | V5: =_xlfn.XLOOKUP($P5,#REF!,#REF!,0) -> #REF! | X5: =T2 -> #REF! | Y5: =T3 -> #REF! | Z5: =T4 -> #REF! | AA5: =V6 -> #REF! | AB5: =U6 -> 0 | AD5: 1 | AE5: =_xlfn.XLOOKUP($AD5,#REF!,#REF!,0) -> #REF! | AF5: =_xlfn.XLOOKUP($AD5,#REF!,#REF!,0) -> #REF!
H6: RK Petrovice B | N6: RK Petrovice B | O6: RC Praga Praha B | P6: 5 | U6: =_xlfn.XLOOKUP($P6,'5'!C:C,'5'!B:B,0) -> 0 | V6: =_xlfn.XLOOKUP($P6,#REF!,#REF!,0) -> #REF! | X6: =U2 -> 0 | Y6: =U3 -> 0 | Z6: =U4 -> 0
H7: Bystrc A | I7: Počet zápasů na tým | J7: 3 | K7: 3 | L7: 3 | M7: 3 | N7: 4 | O7: 4 | X7: =V2 -> #REF! | Y7: =V3 -> #REF! | Z7: =V4 -> #REF!
H8: Bystrc B | I8: Počet zápasů celkem | J8: 6 | K8: 6 | L8: 6 | M8: 6 | N8: 10 | O8: 10
H9: RC Kralupy nad Vltavou | W9: Počet zápasů na tým | X9: 5 | Y9: 5 | Z9: 5 | AA9: 3+1 | AB9: 3+1
H10: RC Jimi Vyškov | J10: 10 | K10: 10 | L10: 10 | M10: 10 | N10: 15 | W10: Počet zápasů celkem | X10: 10 | Y10: 10 | Z10: 10 | AA10: 6 | AB10: 6
H11: RC Dragon Brno
H12: RC Olomouc
H13: Tatra Smíchov A
H14: Tatra Smíchov B
H15: ARC Iuridica | W15: 6 týmů 9 zápasů
H16: RA Olymp Praha | W16: 16 týmů 8 zápasů
H17: Rugby Babice | W17: 4 týmy 7
H18: RC Slavia Praha
H19: RC Šumava Nýrsko
H20: RA Brno
H21: RC Mountfield Říčany A
H22: RC Mountfield Říčany B
H23: SC Frankfurt A
H24: SC Frankfurt B
H25: SC Frankfurt C
H26: Mitava
H27: Vairas

Sheet Určení pořadí
A1: V případě rovnosti bodů ve skupině rozhodují o umístění v tomto pořadí následující skutečnosti:
A3: 1. | B3: Větší rozdíl dosažených a obdržených položení (v případě záporného čísla menší) ve skupině
A4: 2. | B4: Větší počet dosažených položení ve skupině
A5: 3. | B5: Výsledek vzájemného utkání
A6: 4. | B6: Menší počet v turnaji vyloučených hráčů
A7: 5. | B7: Větší počet na soupisce napsaných hráčů mladšího ročníku (2013)
A8: 6. | B8: Pokud se týmy utkaly v předchozí fázi turnaje, výsledek utkání v předchozí fázi
A9: 7. | B9: Pokud se týmy setkaly ve skupině v předchozí fázi turnaje, pořadí v předchozí fázi
A10: 8. | B10: Los
B12: Bodování výsledku utkání: výhra 3 body, remíza 2 body, prohra 1 bod. V případě nenastoupení družstva k utkání se nastoupenému družstvu počítá skóre 5:0 a 3 body, nenastoupenému družstvu skóre 0:5 a 0 bodů.

Sheet 4
A1: 44660 | C1: PYRF U8 | D1: pro 4 týmy
A2: RC PRAGA PRAHA | C2: HŘIŠTĚ 1 SKUPINA A | D2: Čas hry: | E2: 1 x 6 min
D3: Pauza: | E3: 3 | I3: =VALUE(LEFT($E$2,SEARCH("x",$E$2)-1))*VALUE(MID($E$2,SEARCH("x",$E$2)+1,2))+VALUE(LEFT($E$3,2)) -> 9 | J3: min celkem | P3: =(VALUE(LEFT($E$2,SEARCH("x",$E$2)-1))*VALUE(MID($E$2,SEARCH("x",$E$2)+1,2))+VALUE(LEFT($E$3,2)))*2 -> 18
A6: Mužstva | K6: Body
B7: Nasazení mužstev | D7: Pořadí zápasů*) | H7: rank | I7: pts | J7: tries f. | L7: tries a. | M7: diff.
A8: 1. | B8: Tým 1 | D8: 1. kolo: 1 - 4 2 - 3 | H8: =IFERROR(_xlfn.RANK.AVG(I8,$I$8:$I$11),"") | I8: =+I16+I19+J21 -> #VALUE! | J8: =+E16+E19+G21 -> 0 | K8: : | L8: =+G16+G19+E21 -> 0 | M8: =J8-L8 -> 0
A9: 2. | B9: Tým 2 | D9: 2. kolo: 4 - 3 1 - 2 | H9: =IFERROR(_xlfn.RANK.AVG(I9,$I$8:$I$11),"") | I9: =+I17+J19+I20 -> #VALUE!
A10: 3. | B10: Tým 3 | D10: 3. kolo: 2 - 4 3 - 1 | H10: =IFERROR(_xlfn.RANK.AVG(I10,$I$8:$I$11),"") | I10: =+I21+J18+J17 -> #VALUE! | J10: =+G17+G18+E21 -> 0 | K10: : | L10: =+E17+E18+G21 -> 0 | M10: =J10-L10 -> 0
A11: 4. | B11: Tým 4 | H11: =IFERROR(_xlfn.RANK.AVG(I11,$I$8:$I$11),"") | I11: =+J16+I18+J20 -> #VALUE!
G12: *) Bergerovy tabulky
A14: Rozpis zápasů
B15: A | C15: B | D15: Rozhodčí | E15: Výsledek | H15: Výkop
A16: 1. | B16: =B8 -> Tým 1 | C16: =B11 -> Tým 4 | F16: : | H16: 0.39583333 | I16: =IF(AND(ISNUMBER(E16),ISNUMBER(G16)),IF(G16<E16,3,IF(G16>E16,1,2)),"") | J16: =IF(AND(ISNUMBER(E16),ISNUMBER(G16)),IF(G16>E16,3,IF(G16<E16,1,2)),"")
A17: 2. | B17: =B9 -> Tým 2 | C17: =B10 -> Tým 3 | F17: : | H17: =H16+$P$3/60/24 -> 0.40833333 | I17: =IF(AND(ISNUMBER(E17),ISNUMBER(G17)),IF(G17<E17,3,IF(G17>E17,1,2)),"") | J17: =IF(AND(ISNUMBER(E17),ISNUMBER(G17)),IF(G17>E17,3,IF(G17<E17,1,2)),"")
A18: 3. | B18: =B11 -> Tým 4 | C18: =B10 -> Tým 3 | F18: : | H18: =H17+$P$3/60/24 -> 0.42083333 | I18: =IF(AND(ISNUMBER(E18),ISNUMBER(G18)),IF(G18<E18,3,IF(G18>E18,1,2)),"") | J18: =IF(AND(ISNUMBER(E18),ISNUMBER(G18)),IF(G18>E18,3,IF(G18<E18,1,2)),"")
A19: 4. | B19: =B8 -> Tým 1 | C19: =B9 -> Tým 2 | F19: : | H19: =H18+$P$3/60/24 -> 0.43333333 | I19: =IF(AND(ISNUMBER(E19),ISNUMBER(G19)),IF(G19<E19,3,IF(G19>E19,1,2)),"") | J19: =IF(AND(ISNUMBER(E19),ISNUMBER(G19)),IF(G19>E19,3,IF(G19<E19,1,2)),"")
A20: 5. | B20: =B9 -> Tým 2 | C20: =B11 -> Tým 4 | F20: : | H20: =H19+$P$3/60/24 -> 0.44583333 | I20: =IF(AND(ISNUMBER(E20),ISNUMBER(G20)),IF(G20<E20,3,IF(G20>E20,1,2)),"") | J20: =IF(AND(ISNUMBER(E20),ISNUMBER(G20)),IF(G20>E20,3,IF(G20<E20,1,2)),"")
A21: 6. | B21: =B10 -> Tým 3 | C21: =B8 -> Tým 1 | F21: : | H21: =H20+$P$3/60/24 -> 0.45833333 | I21: =IF(AND(ISNUMBER(E21),ISNUMBER(G21)),IF(G21<E21,3,IF(G21>E21,1,2)),"") | J21: =IF(AND(ISNUMBER(E21),ISNUMBER(G21)),IF(G21>E21,3,IF(G21<E21,1,2)),"")

Sheet 5
A1: 44660 | C1: PYRF U8 | D1: pro 5 týmů
A2: RC PRAGA PRAHA | C2: HŘIŠTĚ 3 SKUPINA E | D2: Čas hry: | E2: 1 x 5 min
D3: Pauza: | E3: 4 | I3: =VALUE(LEFT($E$2,SEARCH("x",$E$2)-1))*VALUE(MID($E$2,SEARCH("x",$E$2)+1,2))+VALUE(LEFT($E$3,2)) -> 9 | J3: min celkem | P3: =(VALUE(LEFT($E$2,SEARCH("x",$E$2)-1))*VALUE(MID($E$2,SEARCH("x",$E$2)+1,2))+VALUE(LEFT($E$3,2))) -> 9
A6: Mužstva
B7: Nasazení mužstev | D7: Pořadí zápasů*) | H7: rank | I7: pts | J7: tries f. | L7: tries a. | M7: diff.
A8: 1. | B8: Tým 1 | D8: 1. kolo: 2 - 5 3 - 4 | H8: =IFERROR(_xlfn.RANK.AVG(I8,$I$8:$I$12),"") | I8: =I19+I21+J24+J26 -> #VALUE! | J8: =E19+E21+G24+G26 -> 0 | K8: : | L8: =G19+G21+E24+E26 -> 0 | M8: =J8-L8 -> 0 | P8: 1 | Q8: =_xlfn.XLOOKUP(P8,$C$8:$C$12,$B$8:$B$12,0) -> 0
A9: 2. | B9: Tým 2 | D9: 2. kolo: 1 - 2 5 - 3 | H9: =IFERROR(_xlfn.RANK.AVG(I9,$I$8:$I$12),"") | I9: =I17+J19+I22+J25 -> #VALUE! | J9: =G19+E22+E17+G25 -> 0 | K9: : | L9: =G17+E19+G22+E25 -> 0 | M9: =J9-L9 -> 0 | P9: 2 | Q9: =_xlfn.XLOOKUP(P9,$C$8:$C$12,$B$8:$B$12,0) -> 0
A10: 3. | B10: Tým 3 | D10: 3. kolo: 2 - 4 3 - 1 | H10: =IFERROR(_xlfn.RANK.AVG(I10,$I$8:$I$12),"") | I10: =I18+J20+J22+I24 -> #VALUE! | J10: =E18+G20+G22+E24 -> 0 | K10: : | L10: =G18+E20+E22+G24 -> 0 | M10: =J10-L10 -> 0 | P10: 3 | Q10: =_xlfn.XLOOKUP(P10,$C$8:$C$12,$B$8:$B$12,0) -> 0
A11: 4. | B11: Tým 4 | D11: 4. kolo: 4 - 5 3 - 1 | H11: =IFERROR(_xlfn.RANK.AVG(I11,$I$8:$I$12),"") | I11: =J18+J21+I23+I25 -> #VALUE! | J11: =G18+G21+E23+E25 -> 0 | K11: : | L11: =E18+E21+G23+G25 -> 0 | M11: =J11-L11 -> 0 | P11: 4 | Q11: =_xlfn.XLOOKUP(P11,$C$8:$C$12,$B$8:$B$12,0) -> 0
A12: 5. | B12: Tým 5 | D12: 5. kolo: 4 - 2 5 - 1 | H12: =IFERROR(_xlfn.RANK.AVG(I12,$I$8:$I$12),"") | I12: =J17+I20+J23+I26 -> #VALUE! | J12: =G17+E20+G23+E26 -> 0 | K12: : | L12: =E17+G20+E23+G26 -> 0 | M12: =J12-L12 -> 0 | P12: 5 | Q12: =_xlfn.XLOOKUP(P12,$C$8:$C$12,$B$8:$B$12,0) -> 0
E13: *) Bergerovy tabulky upravené pro lichý počet týmů
A15: Rozpis zápasů
B16: A | C16: B | D16: Rozhodčí | E16: Výsledek | H16: Výkop
A17: 1. | B17: =B9 -> Tým 2 | C17: =B12 -> Tým 5 | F17: : | H17: 0.39583333 | I17: =IF(AND(ISNUMBER(E17),ISNUMBER(G17)),IF(G17<E17,3,IF(G17>E17,1,2)),"") | J17: =IF(AND(ISNUMBER(E17),ISNUMBER(G17)),IF(G17>E17,3,IF(G17<E17,1,2)),"") | K17: =IF(AND(ISNUMBER(F17),ISNUMBER(I17)),IF(I17>F17,3,IF(I17<F17,1,2)),"")
A18: 2. | B18: =B10 -> Tým 3 | C18: =B11 -> Tým 4 | F18: : | H18: =H17+$P$3/60/24 -> 0.40208333 | I18: =IF(AND(ISNUMBER(E18),ISNUMBER(G18)),IF(G18<E18,3,IF(G18>E18,1,2)),"") | J18: =IF(AND(ISNUMBER(E18),ISNUMBER(G18)),IF(G18>E18,3,IF(G18<E18,1,2)),"")
A19: 3. | B19: =B8 -> Tým 1 | C19: =B9 -> Tým 2 | F19: : | H19: =H18+$P$3/60/24 -> 0.40833333 | I19: =IF(AND(ISNUMBER(E19),ISNUMBER(G19)),IF(G19<E19,3,IF(G19>E19,1,2)),"") | J19: =IF(AND(ISNUMBER(E19),ISNUMBER(G19)),IF(G19>E19,3,IF(G19<E19,1,2)),"")
A20: 4. | B20: =B12 -> Tým 5 | C20: =B10 -> Tým 3 | F20: : | H20: =H19+$P$3/60/24 -> 0.41458333 | I20: =IF(AND(ISNUMBER(E20),ISNUMBER(G20)),IF(G20<E20,3,IF(G20>E20,1,2)),"") | J20: =IF(AND(ISNUMBER(E20),ISNUMBER(G20)),IF(G20>E20,3,IF(G20<E20,1,2)),"")
A21: 5. | B21: =B8 -> Tým 1 | C21: =B11 -> Tým 4 | F21: : | H21: =H20+$P$3/60/24 -> 0.42083333 | I21: =IF(AND(ISNUMBER(E21),ISNUMBER(G21)),IF(G21<E21,3,IF(G21>E21,1,2)),"") | J21: =IF(AND(ISNUMBER(E21),ISNUMBER(G21)),IF(G21>E21,3,IF(G21<E21,1,2)),"")
A22: 6. | B22: =B9 -> Tým 2 | C22: =B10 -> Tým 3 | F22: : | H22: =H21+$P$3/60/24 -> 0.42708333 | I22: =IF(AND(ISNUMBER(E22),ISNUMBER(G22)),IF(G22<E22,3,IF(G22>E22,1,2)),"") | J22: =IF(AND(ISNUMBER(E22),ISNUMBER(G22)),IF(G22>E22,3,IF(G22<E22,1,2)),"")
A23: 7. | B23: =B11 -> Tým 4 | C23: =B12 -> Tým 5 | F23: : | H23: =H22+$P$3/60/24 -> 0.43333333 | I23: =IF(AND(ISNUMBER(E23),ISNUMBER(G23)),IF(G23<E23,3,IF(G23>E23,1,2)),"") | J23: =IF(AND(ISNUMBER(E23),ISNUMBER(G23)),IF(G23>E23,3,IF(G23<E23,1,2)),"")
A24: 8. | B24: =B10 -> Tým 3 | C24: =B8 -> Tým 1 | F24: : | H24: =H23+$P$3/60/24 -> 0.43958333 | I24: =IF(AND(ISNUMBER(E24),ISNUMBER(G24)),IF(G24<E24,3,IF(G24>E24,1,2)),"") | J24: =IF(AND(ISNUMBER(E24),ISNUMBER(G24)),IF(G24>E24,3,IF(G24<E24,1,2)),"")
A25: 9. | B25: =B11 -> Tým 4 | C25: =B9 -> Tým 2 | F25: : | H25: =H24+$P$3/60/24 -> 0.44583333 | I25: =IF(AND(ISNUMBER(E25),ISNUMBER(G25)),IF(G25<E25,3,IF(G25>E25,1,2)),"") | J25: =IF(AND(ISNUMBER(E25),ISNUMBER(G25)),IF(G25>E25,3,IF(G25<E25,1,2)),"")
A26: 10. | B26: =B12 -> Tým 5 | C26: =B8 -> Tým 1 | F26: : | H26: =H25+$P$3/60/24 -> 0.45208333 | I26: =IF(AND(ISNUMBER(E26),ISNUMBER(G26)),IF(G26<E26,3,IF(G26>E26,1,2)),"") | J26: =IF(AND(ISNUMBER(E26),ISNUMBER(G26)),IF(G26>E26,3,IF(G26<E26,1,2)),"")

Sheet 6
A1: 44660 | C1: PYRF U8 | D1: pro 6 týmů
A2: RC PRAGA PRAHA | C2: HŘIŠTĚ 3 SKUPINA E | D2: Čas hry: | E2: 1 x 5 min
D3: Pauza: | E3: 4 | I3: =VALUE(LEFT($E$2,SEARCH("x",$E$2)-1))*VALUE(MID($E$2,SEARCH("x",$E$2)+1,2))+VALUE(LEFT($E$3,2)) -> 9 | J3: min celkem | P3: =(VALUE(LEFT($E$2,SEARCH("x",$E$2)-1))*VALUE(MID($E$2,SEARCH("x",$E$2)+1,2))+VALUE(LEFT($E$3,2))) -> 9
A6: Mužstva
B7: Nasazení mužstev | D7: Pořadí zápasů*) | H7: rank | I7: pts | J7: tries f. | L7: tries a. | M7: diff.
A8: 1. | B8: Tým 1 | D8: 1. kolo: 1 - 6 2 - 5 3 - 4 | H8: =IFERROR(_xlfn.RANK.AVG(I8,$I$8:$I$13),"") -> 3.5 | I8: =SUMIFS($I$18:$I$32,$B$18:$B$32,$B8)+SUMIFS($J$18:$J$32,$C$18:$C$32,$B8) -> 0 | J8: =SUMIFS($E$18:$E$32,$B$18:$B$32,$B8)+SUMIFS($G$18:$G$32,$C$18:$C$32,$B8) -> 0 | K8: : | L8: =SUMIFS($E$18:$E$32,$C$18:$C$32,$B8)+SUMIFS($G$18:$G$32,$B$18:$B$32,$B8) -> 0 | M8: =J8-L8 -> 0 | P8: 1 | Q8: =_xlfn.XLOOKUP(P8,$C$8:$C$12,$B$8:$B$12,0) -> 0
A9: 2. | B9: Tým 2 | D9: 2. kolo: 1 - 2 6 - 4 5 - 3 | H9: =IFERROR(_xlfn.RANK.AVG(I9,$I$8:$I$13),"") -> 3.5 | I9: =SUMIFS($I$18:$I$32,$B$18:$B$32,$B9)+SUMIFS($J$18:$J$32,$C$18:$C$32,$B9) -> 0 | J9: =SUMIFS($E$18:$E$32,$B$18:$B$32,$B9)+SUMIFS($G$18:$G$32,$C$18:$C$32,$B9) -> 0 | K9: : | L9: =SUMIFS($E$18:$E$32,$C$18:$C$32,$B9)+SUMIFS($G$18:$G$32,$B$18:$B$32,$B9) -> 0 | M9: =J9-L9 -> 0 | P9: 2 | Q9: =_xlfn.XLOOKUP(P9,$C$8:$C$12,$B$8:$B$12,0) -> 0
A10: 3. | B10: Tým 3 | D10: 3. kolo: 2 - 6 3 - 1 4 - 5 | H10: =IFERROR(_xlfn.RANK.AVG(I10,$I$8:$I$13),"") -> 3.5 | I10: =SUMIFS($I$18:$I$32,$B$18:$B$32,$B10)+SUMIFS($J$18:$J$32,$C$18:$C$32,$B10) -> 0 | J10: =SUMIFS($E$18:$E$32,$B$18:$B$32,$B10)+SUMIFS($G$18:$G$32,$C$18:$C$32,$B10) -> 0 | K10: : | L10: =SUMIFS($E$18:$E$32,$C$18:$C$32,$B10)+SUMIFS($G$18:$G$32,$B$18:$B$32,$B10) -> 0 | M10: =J10-L10 -> 0 | P10: 3 | Q10: =_xlfn.XLOOKUP(P10,$C$8:$C$12,$B$8:$B$12,0) -> 0
A11: 4. | B11: Tým 4 | D11: 4. kolo: 2 - 3 6 - 5 1 - 4 | H11: =IFERROR(_xlfn.RANK.AVG(I11,$I$8:$I$13),"") -> 3.5 | I11: =SUMIFS($I$18:$I$32,$B$18:$B$32,$B11)+SUMIFS($J$18:$J$32,$C$18:$C$32,$B11) -> 0 | J11: =SUMIFS($E$18:$E$32,$B$18:$B$32,$B11)+SUMIFS($G$18:$G$32,$C$18:$C$32,$B11) -> 0 | K11: : | L11: =SUMIFS($E$18:$E$32,$C$18:$C$32,$B11)+SUMIFS($G$18:$G$32,$B$18:$B$32,$B11) -> 0 | M11: =J11-L11 -> 0 | P11: 4 | Q11: =_xlfn.XLOOKUP(P11,$C$8:$C$12,$B$8:$B$12,0) -> 0
A12: 5. | B12: Tým 5 | D12: 5. kolo: 3 - 6 4 - 2 5 - 1 | H12: =IFERROR(_xlfn.RANK.AVG(I12,$I$8:$I$13),"") -> 3.5 | I12: =SUMIFS($I$18:$I$32,$B$18:$B$32,$B12)+SUMIFS($J$18:$J$32,$C$18:$C$32,$B12) -> 0 | J12: =SUMIFS($E$18:$E$32,$B$18:$B$32,$B12)+SUMIFS($G$18:$G$32,$C$18:$C$32,$B12) -> 0 | K12: : | L12: =SUMIFS($E$18:$E$32,$C$18:$C$32,$B12)+SUMIFS($G$18:$G$32,$B$18:$B$32,$B12) -> 0 | M12: =J12-L12 -> 0 | P12: 5 | Q12: =_xlfn.XLOOKUP(P12,$C$8:$C$12,$B$8:$B$12,0) -> 0
A13: 6. | B13: Tým 6 | H13: =IFERROR(_xlfn.RANK.AVG(I13,$I$8:$I$13),"") -> 3.5 | I13: =SUMIFS($I$18:$I$32,$B$18:$B$32,$B13)+SUMIFS($J$18:$J$32,$C$18:$C$32,$B13) -> 0 | J13: =SUMIFS($E$18:$E$32,$B$18:$B$32,$B13)+SUMIFS($G$18:$G$32,$C$18:$C$32,$B13) -> 0 | K13: : | L13: =SUMIFS($E$18:$E$32,$C$18:$C$32,$B13)+SUMIFS($G$18:$G$32,$B$18:$B$32,$B13) -> 0 | M13: =J13-L13 -> 0 | P13: 5 | Q13: =_xlfn.XLOOKUP(P13,$C$8:$C$12,$B$8:$B$12,0) -> 0
G14: *) Bergerovy tabulky
A16: Rozpis zápasů
B17: A | C17: B | D17: Rozhodčí | E17: Výsledek | H17: Výkop
A18: 1. | B18: =B8 -> Tým 1 | C18: =B13 -> Tým 6 | F18: : | H18: 0.39583333 | I18: =IF(AND(ISNUMBER(E18),ISNUMBER(G18)),IF(G18<E18,3,IF(G18>E18,1,2)),"") | J18: =IF(AND(ISNUMBER(E18),ISNUMBER(G18)),IF(G18>E18,3,IF(G18<E18,1,2)),"") | K18: =IF(AND(ISNUMBER(F18),ISNUMBER(I18)),IF(I18>F18,3,IF(I18<F18,1,2)),"")
A19: 2. | B19: =B9 -> Tým 2 | C19: =B12 -> Tým 5 | F19: : | H19: =H18+$P$3/60/24 -> 0.40208333 | I19: =IF(AND(ISNUMBER(E19),ISNUMBER(G19)),IF(G19<E19,3,IF(G19>E19,1,2)),"") | J19: =IF(AND(ISNUMBER(E19),ISNUMBER(G19)),IF(G19>E19,3,IF(G19<E19,1,2)),"")
A20: 3. | B20: =B10 -> Tým 3 | C20: =B11 -> Tým 4 | F20: : | H20: =H19+$P$3/60/24 -> 0.40833333 | I20: =IF(AND(ISNUMBER(E20),ISNUMBER(G20)),IF(G20<E20,3,IF(G20>E20,1,2)),"") | J20: =IF(AND(ISNUMBER(E20),ISNUMBER(G20)),IF(G20>E20,3,IF(G20<E20,1,2)),"")
A21: 4. | B21: =B8 -> Tým 1 | C21: =B9 -> Tým 2 | F21: : | H21: =H20+$P$3/60/24 -> 0.41458333 | I21: =IF(AND(ISNUMBER(E21),ISNUMBER(G21)),IF(G21<E21,3,IF(G21>E21,1,2)),"") | J21: =IF(AND(ISNUMBER(E21),ISNUMBER(G21)),IF(G21>E21,3,IF(G21<E21,1,2)),"")
A22: 5. | B22: =B13 -> Tým 6 | C22: =B11 -> Tým 4 | F22: : | H22: =H21+$P$3/60/24 -> 0.42083333 | I22: =IF(AND(ISNUMBER(E22),ISNUMBER(G22)),IF(G22<E22,3,IF(G22>E22,1,2)),"") | J22: =IF(AND(ISNUMBER(E22),ISNUMBER(G22)),IF(G22>E22,3,IF(G22<E22,1,2)),"")
A23: 6. | B23: =B12 -> Tým 5 | C23: =B10 -> Tým 3 | F23: : | H23: =H22+$P$3/60/24 -> 0.42708333 | I23: =IF(AND(ISNUMBER(E23),ISNUMBER(G23)),IF(G23<E23,3,IF(G23>E23,1,2)),"") | J23: =IF(AND(ISNUMBER(E23),ISNUMBER(G23)),IF(G23>E23,3,IF(G23<E23,1,2)),"")
A24: 7. | B24: =B19 -> Tým 2 | C24: =C18 -> Tým 6 | F24: : | H24: =H23+$P$3/60/24 -> 0.43333333 | I24: =IF(AND(ISNUMBER(E24),ISNUMBER(G24)),IF(G24<E24,3,IF(G24>E24,1,2)),"") | J24: =IF(AND(ISNUMBER(E24),ISNUMBER(G24)),IF(G24>E24,3,IF(G24<E24,1,2)),"")
A25: 8. | B25: =B20 -> Tým 3 | C25: =B18 -> Tým 1 | F25: : | H25: =H24+$P$3/60/24 -> 0.43958333 | I25: =IF(AND(ISNUMBER(E25),ISNUMBER(G25)),IF(G25<E25,3,IF(G25>E25,1,2)),"") | J25: =IF(AND(ISNUMBER(E25),ISNUMBER(G25)),IF(G25>E25,3,IF(G25<E25,1,2)),"")
A26: 9. | B26: =C20 -> Tým 4 | C26: =C19 -> Tým 5 | F26: : | H26: =H25+$P$3/60/24 -> 0.44583333 | I26: =IF(AND(ISNUMBER(E26),ISNUMBER(G26)),IF(G26<E26,3,IF(G26>E26,1,2)),"") | J26: =IF(AND(ISNUMBER(E26),ISNUMBER(G26)),IF(G26>E26,3,IF(G26<E26,1,2)),"")
A27: 10. | B27: =B19 -> Tým 2 | C27: =B20 -> Tým 3 | F27: : | H27: =H26+$P$3/60/24 -> 0.45208333 | I27: =IF(AND(ISNUMBER(E27),ISNUMBER(G27)),IF(G27<E27,3,IF(G27>E27,1,2)),"") | J27: =IF(AND(ISNUMBER(E27),ISNUMBER(G27)),IF(G27>E27,3,IF(G27<E27,1,2)),"")
A28: 11. | B28: =B13 -> Tým 6 | C28: =B12 -> Tým 5 | F28: : | H28: =H27+$P$3/60/24 -> 0.45833333
A29: 12. | B29: =B8 -> Tým 1 | C29: =B11 -> Tým 4 | F29: : | H29: =H28+$P$3/60/24 -> 0.46458333
A30: 13. | B30: =B10 -> Tým 3 | C30: =B13 -> Tým 6 | F30: : | H30: =H29+$P$3/60/24 -> 0.47083333
A31: 14. | B31: =B11 -> Tým 4 | C31: =B9 -> Tým 2 | F31: : | H31: =H30+$P$3/60/24 -> 0.47708333
A32: 15. | B32: =B12 -> Tým 5 | C32: =B8 -> Tým 1 | F32: : | H32: =H31+$P$3/60/24 -> 0.48333333

Sheet Parametry
A2: Základní část
A3: Výkop prvních utkání: | B3: 0.41666667
A4: Délka poločasu: | B4: 6 | C4: min
A5: Počet poločasů: | B5: 1
A6: Délka prostojů: | B6: 3 | C6: min
A8: O umístění
A9: Výkop prvních utkání: | B9: 0.57291667
A10: Délka poločasu: | B10: 6 | C10: min
A11: Počet poločasů: | B11: 1
A12: Délka prostojů: | B12: 3 | C12: min

Sheet A
A1: 46123 | C1: PYRF U8 | D1: pro 6 týmů
A2: RC PRAGA PRAHA | C2: SKUPINA "A" | D2: Čas hry: | E2: =Parametry!$B$5&" x "&Parametry!$B$4&" min" -> 1 x 6 min
D3: Pauza: | E3: =Parametry!$B$6 -> 3 | I3: =VALUE(LEFT($E$2,SEARCH("x",$E$2)-1))*VALUE(MID($E$2,SEARCH("x",$E$2)+1,2))+VALUE(LEFT($E$3,2)) -> 9 | J3: min celkem | P3: =(VALUE(LEFT($E$2,SEARCH("x",$E$2)-1))*VALUE(MID($E$2,SEARCH("x",$E$2)+1,2))+VALUE(LEFT($E$3,2))) -> 9
A6: Mužstva
B7: Nasazení mužstev | D7: Pořadí zápasů | H7: rank | I7: pts | J7: tries f. | L7: tries a. | M7: diff. | O7: rank_pts
A8: 1. | B8: Praga žlutá | D8: 1. kolo: 1-6, 2-5, 3-4 | H8: =IFERROR(_xlfn.RANK.AVG(O8,$O$8:$O$13),"") -> 3.5 | I8: =SUMIFS($I$18:$I$32,$B$18:$B$32,$B8)+SUMIFS($J$18:$J$32,$C$18:$C$32,$B8) -> 0 | J8: =SUMIFS($E$18:$E$32,$B$18:$B$32,$B8)+SUMIFS($G$18:$G$32,$C$18:$C$32,$B8) -> 0 | K8: : | L8: =SUMIFS($G$18:$G$32,$B$18:$B$32,$B8)+SUMIFS($E$18:$E$32,$C$18:$C$32,$B8) -> 0 | M8: =J8-L8 -> 0 | O8: =I8+(M8/1000)+(J8/100000) -> 0 | P8: 1 | Q8: =INDEX($B$8:$B$13,MATCH(P8,$H$8:$H$13,0)) -> #N/A
A9: 2. | B9: RC Vyškov | D9: 2. kolo: 1-2, 6-4, 5-3 | H9: =IFERROR(_xlfn.RANK.AVG(O9,$O$8:$O$13),"") -> 3.5 | I9: =SUMIFS($I$18:$I$32,$B$18:$B$32,$B9)+SUMIFS($J$18:$J$32,$C$18:$C$32,$B9) -> 0 | J9: =SUMIFS($E$18:$E$32,$B$18:$B$32,$B9)+SUMIFS($G$18:$G$32,$C$18:$C$32,$B9) -> 0 | K9: : | L9: =SUMIFS($G$18:$G$32,$B$18:$B$32,$B9)+SUMIFS($E$18:$E$32,$C$18:$C$32,$B9) -> 0 | M9: =J9-L9 -> 0 | O9: =I9+(M9/1000)+(J9/100000) -> 0 | P9: 2 | Q9: =INDEX($B$8:$B$13,MATCH(P9,$H$8:$H$13,0)) -> #N/A
A10: 3. | B10: RC Olomouc Orlíci | D10: 3. kolo: 2-6, 4-5, 3-1 | H10: =IFERROR(_xlfn.RANK.AVG(O10,$O$8:$O$13),"") -> 3.5 | I10: =SUMIFS($I$18:$I$32,$B$18:$B$32,$B10)+SUMIFS($J$18:$J$32,$C$18:$C$32,$B10) -> 0 | J10: =SUMIFS($E$18:$E$32,$B$18:$B$32,$B10)+SUMIFS($G$18:$G$32,$C$18:$C$32,$B10) -> 0 | K10: : | L10: =SUMIFS($G$18:$G$32,$B$18:$B$32,$B10)+SUMIFS($E$18:$E$32,$C$18:$C$32,$B10) -> 0 | M10: =J10-L10 -> 0 | O10: =I10+(M10/1000)+(J10/100000) -> 0 | P10: 3 | Q10: =INDEX($B$8:$B$13,MATCH(P10,$H$8:$H$13,0)) -> #N/A
A11: 4. | B11: Slavia Červená | D11: 4. kolo: 6-5, 2-3, 1-4 | H11: =IFERROR(_xlfn.RANK.AVG(O11,$O$8:$O$13),"") -> 3.5 | I11: =SUMIFS($I$18:$I$32,$B$18:$B$32,$B11)+SUMIFS($J$18:$J$32,$C$18:$C$32,$B11) -> 0 | J11: =SUMIFS($E$18:$E$32,$B$18:$B$32,$B11)+SUMIFS($G$18:$G$32,$C$18:$C$32,$B11) -> 0 | K11: : | L11: =SUMIFS($G$18:$G$32,$B$18:$B$32,$B11)+SUMIFS($E$18:$E$32,$C$18:$C$32,$B11) -> 0 | M11: =J11-L11 -> 0 | O11: =I11+(M11/1000)+(J11/100000) -> 0 | P11: 4 | Q11: =INDEX($B$8:$B$13,MATCH(P11,$H$8:$H$13,0)) -> #N/A
A12: 5. | B12: Petrovice Růžofky | D12: 5. kolo: 3-6, 4-2, 5-1 | H12: =IFERROR(_xlfn.RANK.AVG(O12,$O$8:$O$13),"") -> 3.5 | I12: =SUMIFS($I$18:$I$32,$B$18:$B$32,$B12)+SUMIFS($J$18:$J$32,$C$18:$C$32,$B12) -> 0 | J12: =SUMIFS($E$18:$E$32,$B$18:$B$32,$B12)+SUMIFS($G$18:$G$32,$C$18:$C$32,$B12) -> 0 | K12: : | L12: =SUMIFS($G$18:$G$32,$B$18:$B$32,$B12)+SUMIFS($E$18:$E$32,$C$18:$C$32,$B12) -> 0 | M12: =J12-L12 -> 0 | O12: =I12+(M12/1000)+(J12/100000) -> 0 | P12: 5 | Q12: =INDEX($B$8:$B$13,MATCH(P12,$H$8:$H$13,0)) -> #N/A
A13: 6. | B13: Úžice Vlci | H13: =IFERROR(_xlfn.RANK.AVG(O13,$O$8:$O$13),"") -> 3.5 | I13: =SUMIFS($I$18:$I$32,$B$18:$B$32,$B13)+SUMIFS($J$18:$J$32,$C$18:$C$32,$B13) -> 0 | J13: =SUMIFS($E$18:$E$32,$B$18:$B$32,$B13)+SUMIFS($G$18:$G$32,$C$18:$C$32,$B13) -> 0 | K13: : | L13: =SUMIFS($G$18:$G$32,$B$18:$B$32,$B13)+SUMIFS($E$18:$E$32,$C$18:$C$32,$B13) -> 0 | M13: =J13-L13 -> 0 | O13: =I13+(M13/1000)+(J13/100000) -> 0 | P13: 6 | Q13: =INDEX($B$8:$B$13,MATCH(P13,$H$8:$H$13,0)) -> #N/A
A16: Rozpis zápasů
B17: A | C17: B | D17: Rozhodčí | E17: Výsledek | H17: Výkop | I17: Dom | J17: Hos | Y17: =36/6 -> 6
A18: 1. | B18: =B8 -> Praga žlutá | C18: =B13 -> Úžice Vlci | F18: : | H18: =Parametry!$B$3 -> 0.41666667 | I18: =IF(AND(ISNUMBER(E18),ISNUMBER(G18)),IF(G18<E18,3,IF(G18>E18,1,2)),"") | J18: =IF(AND(ISNUMBER(E18),ISNUMBER(G18)),IF(G18>E18,3,IF(G18<E18,1,2)),"") | K18: =IF(AND(ISNUMBER(F18),ISNUMBER(I18)),IF(I18>F18,3,IF(I18<F18,1,2)),"")
A19: 2. | B19: =B9 -> RC Vyškov | C19: =B12 -> Petrovice Růžofky | F19: : | H19: =H18+$P$3/60/24 -> 0.42291667 | I19: =IF(AND(ISNUMBER(E19),ISNUMBER(G19)),IF(G19<E19,3,IF(G19>E19,1,2)),"") | J19: =IF(AND(ISNUMBER(E19),ISNUMBER(G19)),IF(G19>E19,3,IF(G19<E19,1,2)),"")
A20: 3. | B20: =B10 -> RC Olomouc Orlíci | C20: =B11 -> Slavia Červená | F20: : | H20: =H19+$P$3/60/24 -> 0.42916667 | I20: =IF(AND(ISNUMBER(E20),ISNUMBER(G20)),IF(G20<E20,3,IF(G20>E20,1,2)),"") | J20: =IF(AND(ISNUMBER(E20),ISNUMBER(G20)),IF(G20>E20,3,IF(G20<E20,1,2)),"")
A21: 4. | B21: =B8 -> Praga žlutá | C21: =B9 -> RC Vyškov | F21: : | H21: =H20+$P$3/60/24 -> 0.43541667 | I21: =IF(AND(ISNUMBER(E21),ISNUMBER(G21)),IF(G21<E21,3,IF(G21>E21,1,2)),"") | J21: =IF(AND(ISNUMBER(E21),ISNUMBER(G21)),IF(G21>E21,3,IF(G21<E21,1,2)),"")
A22: 5. | B22: =B13 -> Úžice Vlci | C22: =B11 -> Slavia Červená | F22: : | H22: =H21+$P$3/60/24 -> 0.44166667 | I22: =IF(AND(ISNUMBER(E22),ISNUMBER(G22)),IF(G22<E22,3,IF(G22>E22,1,2)),"") | J22: =IF(AND(ISNUMBER(E22),ISNUMBER(G22)),IF(G22>E22,3,IF(G22<E22,1,2)),"")
A23: 6. | B23: =B12 -> Petrovice Růžofky | C23: =B10 -> RC Olomouc Orlíci | F23: : | H23: =H22+$P$3/60/24 -> 0.44791667 | I23: =IF(AND(ISNUMBER(E23),ISNUMBER(G23)),IF(G23<E23,3,IF(G23>E23,1,2)),"") | J23: =IF(AND(ISNUMBER(E23),ISNUMBER(G23)),IF(G23>E23,3,IF(G23<E23,1,2)),"")
A24: 7. | B24: =B9 -> RC Vyškov | C24: =B13 -> Úžice Vlci | F24: : | H24: =H23+$P$3/60/24 -> 0.45416667 | I24: =IF(AND(ISNUMBER(E24),ISNUMBER(G24)),IF(G24<E24,3,IF(G24>E24,1,2)),"") | J24: =IF(AND(ISNUMBER(E24),ISNUMBER(G24)),IF(G24>E24,3,IF(G24<E24,1,2)),"")
A25: 8. | B25: =B11 -> Slavia Červená | C25: =B12 -> Petrovice Růžofky | F25: : | H25: =H24+$P$3/60/24 -> 0.46041667 | I25: =IF(AND(ISNUMBER(E25),ISNUMBER(G25)),IF(G25<E25,3,IF(G25>E25,1,2)),"") | J25: =IF(AND(ISNUMBER(E25),ISNUMBER(G25)),IF(G25>E25,3,IF(G25<E25,1,2)),"")
A26: 9. | B26: =B10 -> RC Olomouc Orlíci | C26: =B8 -> Praga žlutá | F26: : | H26: =H25+$P$3/60/24 -> 0.46666667 | I26: =IF(AND(ISNUMBER(E26),ISNUMBER(G26)),IF(G26<E26,3,IF(G26>E26,1,2)),"") | J26: =IF(AND(ISNUMBER(E26),ISNUMBER(G26)),IF(G26>E26,3,IF(G26<E26,1,2)),"")
A27: 10. | B27: =B13 -> Úžice Vlci | C27: =B12 -> Petrovice Růžofky | F27: : | H27: =H26+$P$3/60/24 -> 0.47291667 | I27: =IF(AND(ISNUMBER(E27),ISNUMBER(G27)),IF(G27<E27,3,IF(G27>E27,1,2)),"") | J27: =IF(AND(ISNUMBER(E27),ISNUMBER(G27)),IF(G27>E27,3,IF(G27<E27,1,2)),"")
A28: 11. | B28: =B9 -> RC Vyškov | C28: =B10 -> RC Olomouc Orlíci | F28: : | H28: =H27+$P$3/60/24 -> 0.47916667 | I28: =IF(AND(ISNUMBER(E28),ISNUMBER(G28)),IF(G28<E28,3,IF(G28>E28,1,2)),"") | J28: =IF(AND(ISNUMBER(E28),ISNUMBER(G28)),IF(G28>E28,3,IF(G28<E28,1,2)),"")
A29: 12. | B29: =B8 -> Praga žlutá | C29: =B11 -> Slavia Červená | F29: : | H29: =H28+$P$3/60/24 -> 0.48541667 | I29: =IF(AND(ISNUMBER(E29),ISNUMBER(G29)),IF(G29<E29,3,IF(G29>E29,1,2)),"") | J29: =IF(AND(ISNUMBER(E29),ISNUMBER(G29)),IF(G29>E29,3,IF(G29<E29,1,2)),"")
A30: 13. | B30: =B10 -> RC Olomouc Orlíci | C30: =B13 -> Úžice Vlci | F30: : | H30: =H29+$P$3/60/24 -> 0.49166667 | I30: =IF(AND(ISNUMBER(E30),ISNUMBER(G30)),IF(G30<E30,3,IF(G30>E30,1,2)),"") | J30: =IF(AND(ISNUMBER(E30),ISNUMBER(G30)),IF(G30>E30,3,IF(G30<E30,1,2)),"")
A31: 14. | B31: =B11 -> Slavia Červená | C31: =B9 -> RC Vyškov | F31: : | H31: =H30+$P$3/60/24 -> 0.49791667 | I31: =IF(AND(ISNUMBER(E31),ISNUMBER(G31)),IF(G31<E31,3,IF(G31>E31,1,2)),"") | J31: =IF(AND(ISNUMBER(E31),ISNUMBER(G31)),IF(G31>E31,3,IF(G31<E31,1,2)),"")
A32: 15. | B32: =B12 -> Petrovice Růžofky | C32: =B8 -> Praga žlutá | F32: : | H32: =H31+$P$3/60/24 -> 0.50416667 | I32: =IF(AND(ISNUMBER(E32),ISNUMBER(G32)),IF(G32<E32,3,IF(G32>E32,1,2)),"") | J32: =IF(AND(ISNUMBER(E32),ISNUMBER(G32)),IF(G32>E32,3,IF(G32<E32,1,2)),"")

Sheet B
A1: 46123 | C1: PYRF U8 | D1: pro 6 týmů
A2: RC PRAGA PRAHA | C2: SKUPINA "B" | D2: Čas hry: | E2: =Parametry!$B$5&" x "&Parametry!$B$4&" min" -> 1 x 6 min
D3: Pauza: | E3: =Parametry!$B$6 -> 3 | I3: =VALUE(LEFT($E$2,SEARCH("x",$E$2)-1))*VALUE(MID($E$2,SEARCH("x",$E$2)+1,2))+VALUE(LEFT($E$3,2)) -> 9 | J3: min celkem | P3: =(VALUE(LEFT($E$2,SEARCH("x",$E$2)-1))*VALUE(MID($E$2,SEARCH("x",$E$2)+1,2))+VALUE(LEFT($E$3,2))) -> 9
A6: Mužstva
B7: Nasazení mužstev | D7: Pořadí zápasů | H7: rank | I7: pts | J7: tries f. | L7: tries a. | M7: diff. | O7: rank_pts
A8: 1. | B8: Tatra Pandy | D8: 1. kolo: 1-6, 2-5, 3-4 | H8: =IFERROR(_xlfn.RANK.AVG(O8,$O$8:$O$13),"") -> 3.5 | I8: =SUMIFS($I$18:$I$32,$B$18:$B$32,$B8)+SUMIFS($J$18:$J$32,$C$18:$C$32,$B8) -> 0 | J8: =SUMIFS($E$18:$E$32,$B$18:$B$32,$B8)+SUMIFS($G$18:$G$32,$C$18:$C$32,$B8) -> 0 | K8: : | L8: =SUMIFS($G$18:$G$32,$B$18:$B$32,$B8)+SUMIFS($E$18:$E$32,$C$18:$C$32,$B8) -> 0 | M8: =J8-L8 -> 0 | O8: =I8+(M8/1000)+(J8/100000) -> 0 | P8: 1 | Q8: =INDEX($B$8:$B$13,MATCH(P8,$H$8:$H$13,0)) -> #N/A
A9: 2. | B9: Praga Vosy | D9: 2. kolo: 1-2, 6-4, 5-3 | H9: =IFERROR(_xlfn.RANK.AVG(O9,$O$8:$O$13),"") -> 3.5 | I9: =SUMIFS($I$18:$I$32,$B$18:$B$32,$B9)+SUMIFS($J$18:$J$32,$C$18:$C$32,$B9) -> 0 | J9: =SUMIFS($E$18:$E$32,$B$18:$B$32,$B9)+SUMIFS($G$18:$G$32,$C$18:$C$32,$B9) -> 0 | K9: : | L9: =SUMIFS($G$18:$G$32,$B$18:$B$32,$B9)+SUMIFS($E$18:$E$32,$C$18:$C$32,$B9) -> 0 | M9: =J9-L9 -> 0 | O9: =I9+(M9/1000)+(J9/100000) -> 0 | P9: 2 | Q9: =INDEX($B$8:$B$13,MATCH(P9,$H$8:$H$13,0)) -> #N/A
A10: 3. | B10: Babice Buldoci | D10: 3. kolo: 2-6, 4-5, 3-1 | H10: =IFERROR(_xlfn.RANK.AVG(O10,$O$8:$O$13),"") -> 3.5 | I10: =SUMIFS($I$18:$I$32,$B$18:$B$32,$B10)+SUMIFS($J$18:$J$32,$C$18:$C$32,$B10) -> 0 | J10: =SUMIFS($E$18:$E$32,$B$18:$B$32,$B10)+SUMIFS($G$18:$G$32,$C$18:$C$32,$B10) -> 0 | K10: : | L10: =SUMIFS($G$18:$G$32,$B$18:$B$32,$B10)+SUMIFS($E$18:$E$32,$C$18:$C$32,$B10) -> 0 | M10: =J10-L10 -> 0 | O10: =I10+(M10/1000)+(J10/100000) -> 0 | P10: 3 | Q10: =INDEX($B$8:$B$13,MATCH(P10,$H$8:$H$13,0)) -> #N/A
A11: 4. | B11: Dragon Brno Krtci | D11: 4. kolo: 6-5, 2-3, 1-4 | H11: =IFERROR(_xlfn.RANK.AVG(O11,$O$8:$O$13),"") -> 3.5 | I11: =SUMIFS($I$18:$I$32,$B$18:$B$32,$B11)+SUMIFS($J$18:$J$32,$C$18:$C$32,$B11) -> 0 | J11: =SUMIFS($E$18:$E$32,$B$18:$B$32,$B11)+SUMIFS($G$18:$G$32,$C$18:$C$32,$B11) -> 0 | K11: : | L11: =SUMIFS($G$18:$G$32,$B$18:$B$32,$B11)+SUMIFS($E$18:$E$32,$C$18:$C$32,$B11) -> 0 | M11: =J11-L11 -> 0 | O11: =I11+(M11/1000)+(J11/100000) -> 0 | P11: 4 | Q11: =INDEX($B$8:$B$13,MATCH(P11,$H$8:$H$13,0)) -> #N/A
A12: 5. | B12: Strong Girls and Boys | D12: 5. kolo: 3-6, 4-2, 5-1 | H12: =IFERROR(_xlfn.RANK.AVG(O12,$O$8:$O$13),"") -> 3.5 | I12: =SUMIFS($I$18:$I$32,$B$18:$B$32,$B12)+SUMIFS($J$18:$J$32,$C$18:$C$32,$B12) -> 0 | J12: =SUMIFS($E$18:$E$32,$B$18:$B$32,$B12)+SUMIFS($G$18:$G$32,$C$18:$C$32,$B12) -> 0 | K12: : | L12: =SUMIFS($G$18:$G$32,$B$18:$B$32,$B12)+SUMIFS($E$18:$E$32,$C$18:$C$32,$B12) -> 0 | M12: =J12-L12 -> 0 | O12: =I12+(M12/1000)+(J12/100000) -> 0 | P12: 5 | Q12: =INDEX($B$8:$B$13,MATCH(P12,$H$8:$H$13,0)) -> #N/A
A13: 6. | B13: 1880 Frankfurt Red | H13: =IFERROR(_xlfn.RANK.AVG(O13,$O$8:$O$13),"") -> 3.5 | I13: =SUMIFS($I$18:$I$32,$B$18:$B$32,$B13)+SUMIFS($J$18:$J$32,$C$18:$C$32,$B13) -> 0 | J13: =SUMIFS($E$18:$E$32,$B$18:$B$32,$B13)+SUMIFS($G$18:$G$32,$C$18:$C$32,$B13) -> 0 | K13: : | L13: =SUMIFS($G$18:$G$32,$B$18:$B$32,$B13)+SUMIFS($E$18:$E$32,$C$18:$C$32,$B13) -> 0 | M13: =J13-L13 -> 0 | O13: =I13+(M13/1000)+(J13/100000) -> 0 | P13: 6 | Q13: =INDEX($B$8:$B$13,MATCH(P13,$H$8:$H$13,0)) -> #N/A
A16: Rozpis zápasů
B17: A | C17: B | D17: Rozhodčí | E17: Výsledek | H17: Výkop | I17: Dom | J17: Hos | Y17: =36/6 -> 6
A18: 1. | B18: =B8 -> Tatra Pandy | C18: =B13 -> 1880 Frankfurt Red | F18: : | H18: =Parametry!$B$3 -> 0.41666667 | I18: =IF(AND(ISNUMBER(E18),ISNUMBER(G18)),IF(G18<E18,3,IF(G18>E18,1,2)),"") | J18: =IF(AND(ISNUMBER(E18),ISNUMBER(G18)),IF(G18>E18,3,IF(G18<E18,1,2)),"") | K18: =IF(AND(ISNUMBER(F18),ISNUMBER(I18)),IF(I18>F18,3,IF(I18<F18,1,2)),"")
A19: 2. | B19: =B9 -> Praga Vosy | C19: =B12 -> Strong Girls and Boys | F19: : | H19: =H18+$P$3/60/24 -> 0.42291667 | I19: =IF(AND(ISNUMBER(E19),ISNUMBER(G19)),IF(G19<E19,3,IF(G19>E19,1,2)),"") | J19: =IF(AND(ISNUMBER(E19),ISNUMBER(G19)),IF(G19>E19,3,IF(G19<E19,1,2)),"")
A20: 3. | B20: =B10 -> Babice Buldoci | C20: =B11 -> Dragon Brno Krtci | F20: : | H20: =H19+$P$3/60/24 -> 0.42916667 | I20: =IF(AND(ISNUMBER(E20),ISNUMBER(G20)),IF(G20<E20,3,IF(G20>E20,1,2)),"") | J20: =IF(AND(ISNUMBER(E20),ISNUMBER(G20)),IF(G20>E20,3,IF(G20<E20,1,2)),"")
A21: 4. | B21: =B8 -> Tatra Pandy | C21: =B9 -> Praga Vosy | F21: : | H21: =H20+$P$3/60/24 -> 0.43541667 | I21: =IF(AND(ISNUMBER(E21),ISNUMBER(G21)),IF(G21<E21,3,IF(G21>E21,1,2)),"") | J21: =IF(AND(ISNUMBER(E21),ISNUMBER(G21)),IF(G21>E21,3,IF(G21<E21,1,2)),"")
A22: 5. | B22: =B13 -> 1880 Frankfurt Red | C22: =B11 -> Dragon Brno Krtci | F22: : | H22: =H21+$P$3/60/24 -> 0.44166667 | I22: =IF(AND(ISNUMBER(E22),ISNUMBER(G22)),IF(G22<E22,3,IF(G22>E22,1,2)),"") | J22: =IF(AND(ISNUMBER(E22),ISNUMBER(G22)),IF(G22>E22,3,IF(G22<E22,1,2)),"")
A23: 6. | B23: =B12 -> Strong Girls and Boys | C23: =B10 -> Babice Buldoci | F23: : | H23: =H22+$P$3/60/24 -> 0.44791667 | I23: =IF(AND(ISNUMBER(E23),ISNUMBER(G23)),IF(G23<E23,3,IF(G23>E23,1,2)),"") | J23: =IF(AND(ISNUMBER(E23),ISNUMBER(G23)),IF(G23>E23,3,IF(G23<E23,1,2)),"")
A24: 7. | B24: =B9 -> Praga Vosy | C24: =B13 -> 1880 Frankfurt Red | F24: : | H24: =H23+$P$3/60/24 -> 0.45416667 | I24: =IF(AND(ISNUMBER(E24),ISNUMBER(G24)),IF(G24<E24,3,IF(G24>E24,1,2)),"") | J24: =IF(AND(ISNUMBER(E24),ISNUMBER(G24)),IF(G24>E24,3,IF(G24<E24,1,2)),"")
A25: 8. | B25: =B11 -> Dragon Brno Krtci | C25: =B12 -> Strong Girls and Boys | F25: : | H25: =H24+$P$3/60/24 -> 0.46041667 | I25: =IF(AND(ISNUMBER(E25),ISNUMBER(G25)),IF(G25<E25,3,IF(G25>E25,1,2)),"") | J25: =IF(AND(ISNUMBER(E25),ISNUMBER(G25)),IF(G25>E25,3,IF(G25<E25,1,2)),"")
A26: 9. | B26: =B10 -> Babice Buldoci | C26: =B8 -> Tatra Pandy | F26: : | H26: =H25+$P$3/60/24 -> 0.46666667 | I26: =IF(AND(ISNUMBER(E26),ISNUMBER(G26)),IF(G26<E26,3,IF(G26>E26,1,2)),"") | J26: =IF(AND(ISNUMBER(E26),ISNUMBER(G26)),IF(G26>E26,3,IF(G26<E26,1,2)),"")
A27: 10. | B27: =B13 -> 1880 Frankfurt Red | C27: =B12 -> Strong Girls and Boys | F27: : | H27: =H26+$P$3/60/24 -> 0.47291667 | I27: =IF(AND(ISNUMBER(E27),ISNUMBER(G27)),IF(G27<E27,3,IF(G27>E27,1,2)),"") | J27: =IF(AND(ISNUMBER(E27),ISNUMBER(G27)),IF(G27>E27,3,IF(G27<E27,1,2)),"")
A28: 11. | B28: =B9 -> Praga Vosy | C28: =B10 -> Babice Buldoci | F28: : | H28: =H27+$P$3/60/24 -> 0.47916667 | I28: =IF(AND(ISNUMBER(E28),ISNUMBER(G28)),IF(G28<E28,3,IF(G28>E28,1,2)),"") | J28: =IF(AND(ISNUMBER(E28),ISNUMBER(G28)),IF(G28>E28,3,IF(G28<E28,1,2)),"")
A29: 12. | B29: =B8 -> Tatra Pandy | C29: =B11 -> Dragon Brno Krtci | F29: : | H29: =H28+$P$3/60/24 -> 0.48541667 | I29: =IF(AND(ISNUMBER(E29),ISNUMBER(G29)),IF(G29<E29,3,IF(G29>E29,1,2)),"") | J29: =IF(AND(ISNUMBER(E29),ISNUMBER(G29)),IF(G29>E29,3,IF(G29<E29,1,2)),"")
A30: 13. | B30: =B10 -> Babice Buldoci | C30: =B13 -> 1880 Frankfurt Red | F30: : | H30: =H29+$P$3/60/24 -> 0.49166667 | I30: =IF(AND(ISNUMBER(E30),ISNUMBER(G30)),IF(G30<E30,3,IF(G30>E30,1,2)),"") | J30: =IF(AND(ISNUMBER(E30),ISNUMBER(G30)),IF(G30>E30,3,IF(G30<E30,1,2)),"")
A31: 14. | B31: =B11 -> Dragon Brno Krtci | C31: =B9 -> Praga Vosy | F31: : | H31: =H30+$P$3/60/24 -> 0.49791667 | I31: =IF(AND(ISNUMBER(E31),ISNUMBER(G31)),IF(G31<E31,3,IF(G31>E31,1,2)),"") | J31: =IF(AND(ISNUMBER(E31),ISNUMBER(G31)),IF(G31>E31,3,IF(G31<E31,1,2)),"")
A32: 15. | B32: =B12 -> Strong Girls and Boys | C32: =B8 -> Tatra Pandy | F32: : | H32: =H31+$P$3/60/24 -> 0.50416667 | I32: =IF(AND(ISNUMBER(E32),ISNUMBER(G32)),IF(G32<E32,3,IF(G32>E32,1,2)),"") | J32: =IF(AND(ISNUMBER(E32),ISNUMBER(G32)),IF(G32>E32,3,IF(G32<E32,1,2)),"")

Sheet C
A1: 46123 | C1: PYRF U8 | D1: pro 6 týmů
A2: RC PRAGA PRAHA | C2: SKUPINA "C" | D2: Čas hry: | E2: =Parametry!$B$5&" x "&Parametry!$B$4&" min" -> 1 x 6 min
D3: Pauza: | E3: =Parametry!$B$6 -> 3 | I3: =VALUE(LEFT($E$2,SEARCH("x",$E$2)-1))*VALUE(MID($E$2,SEARCH("x",$E$2)+1,2))+VALUE(LEFT($E$3,2)) -> 9 | J3: min celkem | P3: =(VALUE(LEFT($E$2,SEARCH("x",$E$2)-1))*VALUE(MID($E$2,SEARCH("x",$E$2)+1,2))+VALUE(LEFT($E$3,2))) -> 9
A6: Mužstva
B7: Nasazení mužstev | D7: Pořadí zápasů | H7: rank | I7: pts | J7: tries f. | L7: tries a. | M7: diff. | O7: rank_pts
A8: 1. | B8: Tatra Zebry | D8: 1. kolo: 1-6, 2-5, 3-4 | H8: =IFERROR(_xlfn.RANK.AVG(O8,$O$8:$O$13),"") -> 3.5 | I8: =SUMIFS($I$18:$I$32,$B$18:$B$32,$B8)+SUMIFS($J$18:$J$32,$C$18:$C$32,$B8) -> 0 | J8: =SUMIFS($E$18:$E$32,$B$18:$B$32,$B8)+SUMIFS($G$18:$G$32,$C$18:$C$32,$B8) -> 0 | K8: : | L8: =SUMIFS($G$18:$G$32,$B$18:$B$32,$B8)+SUMIFS($E$18:$E$32,$C$18:$C$32,$B8) -> 0 | M8: =J8-L8 -> 0 | O8: =I8+(M8/1000)+(J8/100000) -> 0 | P8: 1 | Q8: =INDEX($B$8:$B$13,MATCH(P8,$H$8:$H$13,0)) -> #N/A
A9: 2. | B9: Praga Medvědi | D9: 2. kolo: 1-2, 6-4, 5-3 | H9: =IFERROR(_xlfn.RANK.AVG(O9,$O$8:$O$13),"") -> 3.5 | I9: =SUMIFS($I$18:$I$32,$B$18:$B$32,$B9)+SUMIFS($J$18:$J$32,$C$18:$C$32,$B9) -> 0 | J9: =SUMIFS($E$18:$E$32,$B$18:$B$32,$B9)+SUMIFS($G$18:$G$32,$C$18:$C$32,$B9) -> 0 | K9: : | L9: =SUMIFS($G$18:$G$32,$B$18:$B$32,$B9)+SUMIFS($E$18:$E$32,$C$18:$C$32,$B9) -> 0 | M9: =J9-L9 -> 0 | O9: =I9+(M9/1000)+(J9/100000) -> 0 | P9: 2 | Q9: =INDEX($B$8:$B$13,MATCH(P9,$H$8:$H$13,0)) -> #N/A
A10: 3. | B10: Slezsko | D10: 3. kolo: 2-6, 4-5, 3-1 | H10: =IFERROR(_xlfn.RANK.AVG(O10,$O$8:$O$13),"") -> 3.5 | I10: =SUMIFS($I$18:$I$32,$B$18:$B$32,$B10)+SUMIFS($J$18:$J$32,$C$18:$C$32,$B10) -> 0 | J10: =SUMIFS($E$18:$E$32,$B$18:$B$32,$B10)+SUMIFS($G$18:$G$32,$C$18:$C$32,$B10) -> 0 | K10: : | L10: =SUMIFS($G$18:$G$32,$B$18:$B$32,$B10)+SUMIFS($E$18:$E$32,$C$18:$C$32,$B10) -> 0 | M10: =J10-L10 -> 0 | O10: =I10+(M10/1000)+(J10/100000) -> 0 | P10: 3 | Q10: =INDEX($B$8:$B$13,MATCH(P10,$H$8:$H$13,0)) -> #N/A
A11: 4. | B11: Petrovice Žáby | D11: 4. kolo: 6-5, 2-3, 1-4 | H11: =IFERROR(_xlfn.RANK.AVG(O11,$O$8:$O$13),"") -> 3.5 | I11: =SUMIFS($I$18:$I$32,$B$18:$B$32,$B11)+SUMIFS($J$18:$J$32,$C$18:$C$32,$B11) -> 0 | J11: =SUMIFS($E$18:$E$32,$B$18:$B$32,$B11)+SUMIFS($G$18:$G$32,$C$18:$C$32,$B11) -> 0 | K11: : | L11: =SUMIFS($G$18:$G$32,$B$18:$B$32,$B11)+SUMIFS($E$18:$E$32,$C$18:$C$32,$B11) -> 0 | M11: =J11-L11 -> 0 | O11: =I11+(M11/1000)+(J11/100000) -> 0 | P11: 4 | Q11: =INDEX($B$8:$B$13,MATCH(P11,$H$8:$H$13,0)) -> #N/A
A12: 5. | B12: Bizonci Přelouč | D12: 5. kolo: 3-6, 4-2, 5-1 | H12: =IFERROR(_xlfn.RANK.AVG(O12,$O$8:$O$13),"") -> 3.5 | I12: =SUMIFS($I$18:$I$32,$B$18:$B$32,$B12)+SUMIFS($J$18:$J$32,$C$18:$C$32,$B12) -> 0 | J12: =SUMIFS($E$18:$E$32,$B$18:$B$32,$B12)+SUMIFS($G$18:$G$32,$C$18:$C$32,$B12) -> 0 | K12: : | L12: =SUMIFS($G$18:$G$32,$B$18:$B$32,$B12)+SUMIFS($E$18:$E$32,$C$18:$C$32,$B12) -> 0 | M12: =J12-L12 -> 0 | O12: =I12+(M12/1000)+(J12/100000) -> 0 | P12: 5 | Q12: =INDEX($B$8:$B$13,MATCH(P12,$H$8:$H$13,0)) -> #N/A
A13: 6. | B13: RC 03 Berlin e.V. | H13: =IFERROR(_xlfn.RANK.AVG(O13,$O$8:$O$13),"") -> 3.5 | I13: =SUMIFS($I$18:$I$32,$B$18:$B$32,$B13)+SUMIFS($J$18:$J$32,$C$18:$C$32,$B13) -> 0 | J13: =SUMIFS($E$18:$E$32,$B$18:$B$32,$B13)+SUMIFS($G$18:$G$32,$C$18:$C$32,$B13) -> 0 | K13: : | L13: =SUMIFS($G$18:$G$32,$B$18:$B$32,$B13)+SUMIFS($E$18:$E$32,$C$18:$C$32,$B13) -> 0 | M13: =J13-L13 -> 0 | O13: =I13+(M13/1000)+(J13/100000) -> 0 | P13: 6 | Q13: =INDEX($B$8:$B$13,MATCH(P13,$H$8:$H$13,0)) -> #N/A
A16: Rozpis zápasů
B17: A | C17: B | D17: Rozhodčí | E17: Výsledek | H17: Výkop | I17: Dom | J17: Hos | Y17: =36/6 -> 6
A18: 1. | B18: =B8 -> Tatra Zebry | C18: =B13 -> RC 03 Berlin e.V. | F18: : | H18: =Parametry!$B$3 -> 0.41666667 | I18: =IF(AND(ISNUMBER(E18),ISNUMBER(G18)),IF(G18<E18,3,IF(G18>E18,1,2)),"") | J18: =IF(AND(ISNUMBER(E18),ISNUMBER(G18)),IF(G18>E18,3,IF(G18<E18,1,2)),"") | K18: =IF(AND(ISNUMBER(F18),ISNUMBER(I18)),IF(I18>F18,3,IF(I18<F18,1,2)),"")
A19: 2. | B19: =B9 -> Praga Medvědi | C19: =B12 -> Bizonci Přelouč | F19: : | H19: =H18+$P$3/60/24 -> 0.42291667 | I19: =IF(AND(ISNUMBER(E19),ISNUMBER(G19)),IF(G19<E19,3,IF(G19>E19,1,2)),"") | J19: =IF(AND(ISNUMBER(E19),ISNUMBER(G19)),IF(G19>E19,3,IF(G19<E19,1,2)),"")
A20: 3. | B20: =B10 -> Slezsko | C20: =B11 -> Petrovice Žáby | F20: : | H20: =H19+$P$3/60/24 -> 0.42916667 | I20: =IF(AND(ISNUMBER(E20),ISNUMBER(G20)),IF(G20<E20,3,IF(G20>E20,1,2)),"") | J20: =IF(AND(ISNUMBER(E20),ISNUMBER(G20)),IF(G20>E20,3,IF(G20<E20,1,2)),"")
A21: 4. | B21: =B8 -> Tatra Zebry | C21: =B9 -> Praga Medvědi | F21: : | H21: =H20+$P$3/60/24 -> 0.43541667 | I21: =IF(AND(ISNUMBER(E21),ISNUMBER(G21)),IF(G21<E21,3,IF(G21>E21,1,2)),"") | J21: =IF(AND(ISNUMBER(E21),ISNUMBER(G21)),IF(G21>E21,3,IF(G21<E21,1,2)),"")
A22: 5. | B22: =B13 -> RC 03 Berlin e.V. | C22: =B11 -> Petrovice Žáby | F22: : | H22: =H21+$P$3/60/24 -> 0.44166667 | I22: =IF(AND(ISNUMBER(E22),ISNUMBER(G22)),IF(G22<E22,3,IF(G22>E22,1,2)),"") | J22: =IF(AND(ISNUMBER(E22),ISNUMBER(G22)),IF(G22>E22,3,IF(G22<E22,1,2)),"")
A23: 6. | B23: =B12 -> Bizonci Přelouč | C23: =B10 -> Slezsko | F23: : | H23: =H22+$P$3/60/24 -> 0.44791667 | I23: =IF(AND(ISNUMBER(E23),ISNUMBER(G23)),IF(G23<E23,3,IF(G23>E23,1,2)),"") | J23: =IF(AND(ISNUMBER(E23),ISNUMBER(G23)),IF(G23>E23,3,IF(G23<E23,1,2)),"")
A24: 7. | B24: =B9 -> Praga Medvědi | C24: =B13 -> RC 03 Berlin e.V. | F24: : | H24: =H23+$P$3/60/24 -> 0.45416667 | I24: =IF(AND(ISNUMBER(E24),ISNUMBER(G24)),IF(G24<E24,3,IF(G24>E24,1,2)),"") | J24: =IF(AND(ISNUMBER(E24),ISNUMBER(G24)),IF(G24>E24,3,IF(G24<E24,1,2)),"")
A25: 8. | B25: =B11 -> Petrovice Žáby | C25: =B12 -> Bizonci Přelouč | F25: : | H25: =H24+$P$3/60/24 -> 0.46041667 | I25: =IF(AND(ISNUMBER(E25),ISNUMBER(G25)),IF(G25<E25,3,IF(G25>E25,1,2)),"") | J25: =IF(AND(ISNUMBER(E25),ISNUMBER(G25)),IF(G25>E25,3,IF(G25<E25,1,2)),"")
A26: 9. | B26: =B10 -> Slezsko | C26: =B8 -> Tatra Zebry | F26: : | H26: =H25+$P$3/60/24 -> 0.46666667 | I26: =IF(AND(ISNUMBER(E26),ISNUMBER(G26)),IF(G26<E26,3,IF(G26>E26,1,2)),"") | J26: =IF(AND(ISNUMBER(E26),ISNUMBER(G26)),IF(G26>E26,3,IF(G26<E26,1,2)),"")
A27: 10. | B27: =B13 -> RC 03 Berlin e.V. | C27: =B12 -> Bizonci Přelouč | F27: : | H27: =H26+$P$3/60/24 -> 0.47291667 | I27: =IF(AND(ISNUMBER(E27),ISNUMBER(G27)),IF(G27<E27,3,IF(G27>E27,1,2)),"") | J27: =IF(AND(ISNUMBER(E27),ISNUMBER(G27)),IF(G27>E27,3,IF(G27<E27,1,2)),"")
A28: 11. | B28: =B9 -> Praga Medvědi | C28: =B10 -> Slezsko | F28: : | H28: =H27+$P$3/60/24 -> 0.47916667 | I28: =IF(AND(ISNUMBER(E28),ISNUMBER(G28)),IF(G28<E28,3,IF(G28>E28,1,2)),"") | J28: =IF(AND(ISNUMBER(E28),ISNUMBER(G28)),IF(G28>E28,3,IF(G28<E28,1,2)),"")
A29: 12. | B29: =B8 -> Tatra Zebry | C29: =B11 -> Petrovice Žáby | F29: : | H29: =H28+$P$3/60/24 -> 0.48541667 | I29: =IF(AND(ISNUMBER(E29),ISNUMBER(G29)),IF(G29<E29,3,IF(G29>E29,1,2)),"") | J29: =IF(AND(ISNUMBER(E29),ISNUMBER(G29)),IF(G29>E29,3,IF(G29<E29,1,2)),"")
A30: 13. | B30: =B10 -> Slezsko | C30: =B13 -> RC 03 Berlin e.V. | F30: : | H30: =H29+$P$3/60/24 -> 0.49166667 | I30: =IF(AND(ISNUMBER(E30),ISNUMBER(G30)),IF(G30<E30,3,IF(G30>E30,1,2)),"") | J30: =IF(AND(ISNUMBER(E30),ISNUMBER(G30)),IF(G30>E30,3,IF(G30<E30,1,2)),"")
A31: 14. | B31: =B11 -> Petrovice Žáby | C31: =B9 -> Praga Medvědi | F31: : | H31: =H30+$P$3/60/24 -> 0.49791667 | I31: =IF(AND(ISNUMBER(E31),ISNUMBER(G31)),IF(G31<E31,3,IF(G31>E31,1,2)),"") | J31: =IF(AND(ISNUMBER(E31),ISNUMBER(G31)),IF(G31>E31,3,IF(G31<E31,1,2)),"")
A32: 15. | B32: =B12 -> Bizonci Přelouč | C32: =B8 -> Tatra Zebry | F32: : | H32: =H31+$P$3/60/24 -> 0.50416667 | I32: =IF(AND(ISNUMBER(E32),ISNUMBER(G32)),IF(G32<E32,3,IF(G32>E32,1,2)),"") | J32: =IF(AND(ISNUMBER(E32),ISNUMBER(G32)),IF(G32>E32,3,IF(G32<E32,1,2)),"")

Sheet D
A1: 46123 | C1: PYRF U8 | D1: pro 6 týmů
A2: RC PRAGA PRAHA | C2: SKUPINA "D" | D2: Čas hry: | E2: =Parametry!$B$5&" x "&Parametry!$B$4&" min" -> 1 x 6 min
D3: Pauza: | E3: =Parametry!$B$6 -> 3 | I3: =VALUE(LEFT($E$2,SEARCH("x",$E$2)-1))*VALUE(MID($E$2,SEARCH("x",$E$2)+1,2))+VALUE(LEFT($E$3,2)) -> 9 | J3: min celkem | P3: =(VALUE(LEFT($E$2,SEARCH("x",$E$2)-1))*VALUE(MID($E$2,SEARCH("x",$E$2)+1,2))+VALUE(LEFT($E$3,2))) -> 9
A6: Mužstva
B7: Nasazení mužstev | D7: Pořadí zápasů | H7: rank | I7: pts | J7: tries f. | L7: tries a. | M7: diff. | O7: rank_pts
A8: 1. | B8: Praga černá | D8: 1. kolo: 1-6, 2-5, 3-4 | H8: =IFERROR(_xlfn.RANK.AVG(O8,$O$8:$O$13),"") -> 3.5 | I8: =SUMIFS($I$18:$I$32,$B$18:$B$32,$B8)+SUMIFS($J$18:$J$32,$C$18:$C$32,$B8) -> 0 | J8: =SUMIFS($E$18:$E$32,$B$18:$B$32,$B8)+SUMIFS($G$18:$G$32,$C$18:$C$32,$B8) -> 0 | K8: : | L8: =SUMIFS($G$18:$G$32,$B$18:$B$32,$B8)+SUMIFS($E$18:$E$32,$C$18:$C$32,$B8) -> 0 | M8: =J8-L8 -> 0 | O8: =I8+(M8/1000)+(J8/100000) -> 0 | P8: 1 | Q8: =INDEX($B$8:$B$13,MATCH(P8,$H$8:$H$13,0)) -> #N/A
A9: 2. | B9: Říčany Modrý Válec | D9: 2. kolo: 1-2, 6-4, 5-3 | H9: =IFERROR(_xlfn.RANK.AVG(O9,$O$8:$O$13),"") -> 3.5 | I9: =SUMIFS($I$18:$I$32,$B$18:$B$32,$B9)+SUMIFS($J$18:$J$32,$C$18:$C$32,$B9) -> 0 | J9: =SUMIFS($E$18:$E$32,$B$18:$B$32,$B9)+SUMIFS($G$18:$G$32,$C$18:$C$32,$B9) -> 0 | K9: : | L9: =SUMIFS($G$18:$G$32,$B$18:$B$32,$B9)+SUMIFS($E$18:$E$32,$C$18:$C$32,$B9) -> 0 | M9: =J9-L9 -> 0 | O9: =I9+(M9/1000)+(J9/100000) -> 0 | P9: 2 | Q9: =INDEX($B$8:$B$13,MATCH(P9,$H$8:$H$13,0)) -> #N/A
A10: 3. | B10: RAB Vlci | D10: 3. kolo: 2-6, 4-5, 3-1 | H10: =IFERROR(_xlfn.RANK.AVG(O10,$O$8:$O$13),"") -> 3.5 | I10: =SUMIFS($I$18:$I$32,$B$18:$B$32,$B10)+SUMIFS($J$18:$J$32,$C$18:$C$32,$B10) -> 0 | J10: =SUMIFS($E$18:$E$32,$B$18:$B$32,$B10)+SUMIFS($G$18:$G$32,$C$18:$C$32,$B10) -> 0 | K10: : | L10: =SUMIFS($G$18:$G$32,$B$18:$B$32,$B10)+SUMIFS($E$18:$E$32,$C$18:$C$32,$B10) -> 0 | M10: =J10-L10 -> 0 | O10: =I10+(M10/1000)+(J10/100000) -> 0 | P10: 3 | Q10: =INDEX($B$8:$B$13,MATCH(P10,$H$8:$H$13,0)) -> #N/A
A11: 4. | B11: RC Bystrc Black | D11: 4. kolo: 6-5, 2-3, 1-4 | H11: =IFERROR(_xlfn.RANK.AVG(O11,$O$8:$O$13),"") -> 3.5 | I11: =SUMIFS($I$18:$I$32,$B$18:$B$32,$B11)+SUMIFS($J$18:$J$32,$C$18:$C$32,$B11) -> 0 | J11: =SUMIFS($E$18:$E$32,$B$18:$B$32,$B11)+SUMIFS($G$18:$G$32,$C$18:$C$32,$B11) -> 0 | K11: : | L11: =SUMIFS($G$18:$G$32,$B$18:$B$32,$B11)+SUMIFS($E$18:$E$32,$C$18:$C$32,$B11) -> 0 | M11: =J11-L11 -> 0 | O11: =I11+(M11/1000)+(J11/100000) -> 0 | P11: 4 | Q11: =INDEX($B$8:$B$13,MATCH(P11,$H$8:$H$13,0)) -> #N/A
A12: 5. | B12: Petrovice Mloci | D12: 5. kolo: 3-6, 4-2, 5-1 | H12: =IFERROR(_xlfn.RANK.AVG(O12,$O$8:$O$13),"") -> 3.5 | I12: =SUMIFS($I$18:$I$32,$B$18:$B$32,$B12)+SUMIFS($J$18:$J$32,$C$18:$C$32,$B12) -> 0 | J12: =SUMIFS($E$18:$E$32,$B$18:$B$32,$B12)+SUMIFS($G$18:$G$32,$C$18:$C$32,$B12) -> 0 | K12: : | L12: =SUMIFS($G$18:$G$32,$B$18:$B$32,$B12)+SUMIFS($E$18:$E$32,$C$18:$C$32,$B12) -> 0 | M12: =J12-L12 -> 0 | O12: =I12+(M12/1000)+(J12/100000) -> 0 | P12: 5 | Q12: =INDEX($B$8:$B$13,MATCH(P12,$H$8:$H$13,0)) -> #N/A
A13: 6. | B13: RC Sparta | H13: =IFERROR(_xlfn.RANK.AVG(O13,$O$8:$O$13),"") -> 3.5 | I13: =SUMIFS($I$18:$I$32,$B$18:$B$32,$B13)+SUMIFS($J$18:$J$32,$C$18:$C$32,$B13) -> 0 | J13: =SUMIFS($E$18:$E$32,$B$18:$B$32,$B13)+SUMIFS($G$18:$G$32,$C$18:$C$32,$B13) -> 0 | K13: : | L13: =SUMIFS($G$18:$G$32,$B$18:$B$32,$B13)+SUMIFS($E$18:$E$32,$C$18:$C$32,$B13) -> 0 | M13: =J13-L13 -> 0 | O13: =I13+(M13/1000)+(J13/100000) -> 0 | P13: 6 | Q13: =INDEX($B$8:$B$13,MATCH(P13,$H$8:$H$13,0)) -> #N/A
A16: Rozpis zápasů
B17: A | C17: B | D17: Rozhodčí | E17: Výsledek | H17: Výkop | I17: Dom | J17: Hos | Y17: =36/6 -> 6
A18: 1. | B18: =B8 -> Praga černá | C18: =B13 -> RC Sparta | F18: : | H18: =Parametry!$B$3 -> 0.41666667 | I18: =IF(AND(ISNUMBER(E18),ISNUMBER(G18)),IF(G18<E18,3,IF(G18>E18,1,2)),"") | J18: =IF(AND(ISNUMBER(E18),ISNUMBER(G18)),IF(G18>E18,3,IF(G18<E18,1,2)),"") | K18: =IF(AND(ISNUMBER(F18),ISNUMBER(I18)),IF(I18>F18,3,IF(I18<F18,1,2)),"")
A19: 2. | B19: =B9 -> Říčany Modrý Válec | C19: =B12 -> Petrovice Mloci | F19: : | H19: =H18+$P$3/60/24 -> 0.42291667 | I19: =IF(AND(ISNUMBER(E19),ISNUMBER(G19)),IF(G19<E19,3,IF(G19>E19,1,2)),"") | J19: =IF(AND(ISNUMBER(E19),ISNUMBER(G19)),IF(G19>E19,3,IF(G19<E19,1,2)),"")
A20: 3. | B20: =B10 -> RAB Vlci | C20: =B11 -> RC Bystrc Black | F20: : | H20: =H19+$P$3/60/24 -> 0.42916667 | I20: =IF(AND(ISNUMBER(E20),ISNUMBER(G20)),IF(G20<E20,3,IF(G20>E20,1,2)),"") | J20: =IF(AND(ISNUMBER(E20),ISNUMBER(G20)),IF(G20>E20,3,IF(G20<E20,1,2)),"")
A21: 4. | B21: =B8 -> Praga černá | C21: =B9 -> Říčany Modrý Válec | F21: : | H21: =H20+$P$3/60/24 -> 0.43541667 | I21: =IF(AND(ISNUMBER(E21),ISNUMBER(G21)),IF(G21<E21,3,IF(G21>E21,1,2)),"") | J21: =IF(AND(ISNUMBER(E21),ISNUMBER(G21)),IF(G21>E21,3,IF(G21<E21,1,2)),"")
A22: 5. | B22: =B13 -> RC Sparta | C22: =B11 -> RC Bystrc Black | F22: : | H22: =H21+$P$3/60/24 -> 0.44166667 | I22: =IF(AND(ISNUMBER(E22),ISNUMBER(G22)),IF(G22<E22,3,IF(G22>E22,1,2)),"") | J22: =IF(AND(ISNUMBER(E22),ISNUMBER(G22)),IF(G22>E22,3,IF(G22<E22,1,2)),"")
A23: 6. | B23: =B12 -> Petrovice Mloci | C23: =B10 -> RAB Vlci | F23: : | H23: =H22+$P$3/60/24 -> 0.44791667 | I23: =IF(AND(ISNUMBER(E23),ISNUMBER(G23)),IF(G23<E23,3,IF(G23>E23,1,2)),"") | J23: =IF(AND(ISNUMBER(E23),ISNUMBER(G23)),IF(G23>E23,3,IF(G23<E23,1,2)),"")
A24: 7. | B24: =B9 -> Říčany Modrý Válec | C24: =B13 -> RC Sparta | F24: : | H24: =H23+$P$3/60/24 -> 0.45416667 | I24: =IF(AND(ISNUMBER(E24),ISNUMBER(G24)),IF(G24<E24,3,IF(G24>E24,1,2)),"") | J24: =IF(AND(ISNUMBER(E24),ISNUMBER(G24)),IF(G24>E24,3,IF(G24<E24,1,2)),"")
A25: 8. | B25: =B11 -> RC Bystrc Black | C25: =B12 -> Petrovice Mloci | F25: : | H25: =H24+$P$3/60/24 -> 0.46041667 | I25: =IF(AND(ISNUMBER(E25),ISNUMBER(G25)),IF(G25<E25,3,IF(G25>E25,1,2)),"") | J25: =IF(AND(ISNUMBER(E25),ISNUMBER(G25)),IF(G25>E25,3,IF(G25<E25,1,2)),"")
A26: 9. | B26: =B10 -> RAB Vlci | C26: =B8 -> Praga černá | F26: : | H26: =H25+$P$3/60/24 -> 0.46666667 | I26: =IF(AND(ISNUMBER(E26),ISNUMBER(G26)),IF(G26<E26,3,IF(G26>E26,1,2)),"") | J26: =IF(AND(ISNUMBER(E26),ISNUMBER(G26)),IF(G26>E26,3,IF(G26<E26,1,2)),"")
A27: 10. | B27: =B13 -> RC Sparta | C27: =B12 -> Petrovice Mloci | F27: : | H27: =H26+$P$3/60/24 -> 0.47291667 | I27: =IF(AND(ISNUMBER(E27),ISNUMBER(G27)),IF(G27<E27,3,IF(G27>E27,1,2)),"") | J27: =IF(AND(ISNUMBER(E27),ISNUMBER(G27)),IF(G27>E27,3,IF(G27<E27,1,2)),"")
A28: 11. | B28: =B9 -> Říčany Modrý Válec | C28: =B10 -> RAB Vlci | F28: : | H28: =H27+$P$3/60/24 -> 0.47916667 | I28: =IF(AND(ISNUMBER(E28),ISNUMBER(G28)),IF(G28<E28,3,IF(G28>E28,1,2)),"") | J28: =IF(AND(ISNUMBER(E28),ISNUMBER(G28)),IF(G28>E28,3,IF(G28<E28,1,2)),"")
A29: 12. | B29: =B8 -> Praga černá | C29: =B11 -> RC Bystrc Black | F29: : | H29: =H28+$P$3/60/24 -> 0.48541667 | I29: =IF(AND(ISNUMBER(E29),ISNUMBER(G29)),IF(G29<E29,3,IF(G29>E29,1,2)),"") | J29: =IF(AND(ISNUMBER(E29),ISNUMBER(G29)),IF(G29>E29,3,IF(G29<E29,1,2)),"")
A30: 13. | B30: =B10 -> RAB Vlci | C30: =B13 -> RC Sparta | F30: : | H30: =H29+$P$3/60/24 -> 0.49166667 | I30: =IF(AND(ISNUMBER(E30),ISNUMBER(G30)),IF(G30<E30,3,IF(G30>E30,1,2)),"") | J30: =IF(AND(ISNUMBER(E30),ISNUMBER(G30)),IF(G30>E30,3,IF(G30<E30,1,2)),"")
A31: 14. | B31: =B11 -> RC Bystrc Black | C31: =B9 -> Říčany Modrý Válec | F31: : | H31: =H30+$P$3/60/24 -> 0.49791667 | I31: =IF(AND(ISNUMBER(E31),ISNUMBER(G31)),IF(G31<E31,3,IF(G31>E31,1,2)),"") | J31: =IF(AND(ISNUMBER(E31),ISNUMBER(G31)),IF(G31>E31,3,IF(G31<E31,1,2)),"")
A32: 15. | B32: =B12 -> Petrovice Mloci | C32: =B8 -> Praga černá | F32: : | H32: =H31+$P$3/60/24 -> 0.50416667 | I32: =IF(AND(ISNUMBER(E32),ISNUMBER(G32)),IF(G32<E32,3,IF(G32>E32,1,2)),"") | J32: =IF(AND(ISNUMBER(E32),ISNUMBER(G32)),IF(G32>E32,3,IF(G32<E32,1,2)),"")

Sheet E
A1: 46123 | C1: PYRF U8 | D1: pro 6 týmů
A2: RC PRAGA PRAHA | C2: SKUPINA "E" | D2: Čas hry: | E2: =Parametry!$B$5&" x "&Parametry!$B$4&" min" -> 1 x 6 min
D3: Pauza: | E3: =Parametry!$B$6 -> 3 | I3: =VALUE(LEFT($E$2,SEARCH("x",$E$2)-1))*VALUE(MID($E$2,SEARCH("x",$E$2)+1,2))+VALUE(LEFT($E$3,2)) -> 9 | J3: min celkem | P3: =(VALUE(LEFT($E$2,SEARCH("x",$E$2)-1))*VALUE(MID($E$2,SEARCH("x",$E$2)+1,2))+VALUE(LEFT($E$3,2))) -> 9
A6: Mužstva
B7: Nasazení mužstev | D7: Pořadí zápasů | H7: rank | I7: pts | J7: tries f. | L7: tries a. | M7: diff. | O7: rank_pts
A8: 1. | B8: Tatra Kosatky | D8: 1. kolo: 1-6, 2-5, 3-4 | H8: =IFERROR(_xlfn.RANK.AVG(O8,$O$8:$O$13),"") -> 3.5 | I8: =SUMIFS($I$18:$I$32,$B$18:$B$32,$B8)+SUMIFS($J$18:$J$32,$C$18:$C$32,$B8) -> 0 | J8: =SUMIFS($E$18:$E$32,$B$18:$B$32,$B8)+SUMIFS($G$18:$G$32,$C$18:$C$32,$B8) -> 0 | K8: : | L8: =SUMIFS($G$18:$G$32,$B$18:$B$32,$B8)+SUMIFS($E$18:$E$32,$C$18:$C$32,$B8) -> 0 | M8: =J8-L8 -> 0 | O8: =I8+(M8/1000)+(J8/100000) -> 0 | P8: 1 | Q8: =INDEX($B$8:$B$13,MATCH(P8,$H$8:$H$13,0)) -> #N/A
A9: 2. | B9: Říčany Modrá Mašina | D9: 2. kolo: 1-2, 6-4, 5-3 | H9: =IFERROR(_xlfn.RANK.AVG(O9,$O$8:$O$13),"") -> 3.5 | I9: =SUMIFS($I$18:$I$32,$B$18:$B$32,$B9)+SUMIFS($J$18:$J$32,$C$18:$C$32,$B9) -> 0 | J9: =SUMIFS($E$18:$E$32,$B$18:$B$32,$B9)+SUMIFS($G$18:$G$32,$C$18:$C$32,$B9) -> 0 | K9: : | L9: =SUMIFS($G$18:$G$32,$B$18:$B$32,$B9)+SUMIFS($E$18:$E$32,$C$18:$C$32,$B9) -> 0 | M9: =J9-L9 -> 0 | O9: =I9+(M9/1000)+(J9/100000) -> 0 | P9: 2 | Q9: =INDEX($B$8:$B$13,MATCH(P9,$H$8:$H$13,0)) -> #N/A
A10: 3. | B10: RC Bystrc Orange | D10: 3. kolo: 2-6, 4-5, 3-1 | H10: =IFERROR(_xlfn.RANK.AVG(O10,$O$8:$O$13),"") -> 3.5 | I10: =SUMIFS($I$18:$I$32,$B$18:$B$32,$B10)+SUMIFS($J$18:$J$32,$C$18:$C$32,$B10) -> 0 | J10: =SUMIFS($E$18:$E$32,$B$18:$B$32,$B10)+SUMIFS($G$18:$G$32,$C$18:$C$32,$B10) -> 0 | K10: : | L10: =SUMIFS($G$18:$G$32,$B$18:$B$32,$B10)+SUMIFS($E$18:$E$32,$C$18:$C$32,$B10) -> 0 | M10: =J10-L10 -> 0 | O10: =I10+(M10/1000)+(J10/100000) -> 0 | P10: 3 | Q10: =INDEX($B$8:$B$13,MATCH(P10,$H$8:$H$13,0)) -> #N/A
A11: 4. | B11: Rugby Olymp | D11: 4. kolo: 6-5, 2-3, 1-4 | H11: =IFERROR(_xlfn.RANK.AVG(O11,$O$8:$O$13),"") -> 3.5 | I11: =SUMIFS($I$18:$I$32,$B$18:$B$32,$B11)+SUMIFS($J$18:$J$32,$C$18:$C$32,$B11) -> 0 | J11: =SUMIFS($E$18:$E$32,$B$18:$B$32,$B11)+SUMIFS($G$18:$G$32,$C$18:$C$32,$B11) -> 0 | K11: : | L11: =SUMIFS($G$18:$G$32,$B$18:$B$32,$B11)+SUMIFS($E$18:$E$32,$C$18:$C$32,$B11) -> 0 | M11: =J11-L11 -> 0 | O11: =I11+(M11/1000)+(J11/100000) -> 0 | P11: 4 | Q11: =INDEX($B$8:$B$13,MATCH(P11,$H$8:$H$13,0)) -> #N/A
A12: 5. | B12: Bizoni Přelouč | D12: 5. kolo: 3-6, 4-2, 5-1 | H12: =IFERROR(_xlfn.RANK.AVG(O12,$O$8:$O$13),"") -> 3.5 | I12: =SUMIFS($I$18:$I$32,$B$18:$B$32,$B12)+SUMIFS($J$18:$J$32,$C$18:$C$32,$B12) -> 0 | J12: =SUMIFS($E$18:$E$32,$B$18:$B$32,$B12)+SUMIFS($G$18:$G$32,$C$18:$C$32,$B12) -> 0 | K12: : | L12: =SUMIFS($G$18:$G$32,$B$18:$B$32,$B12)+SUMIFS($E$18:$E$32,$C$18:$C$32,$B12) -> 0 | M12: =J12-L12 -> 0 | O12: =I12+(M12/1000)+(J12/100000) -> 0 | P12: 5 | Q12: =INDEX($B$8:$B$13,MATCH(P12,$H$8:$H$13,0)) -> #N/A
A13: 6. | B13: 1880 Frankfurt Black | H13: =IFERROR(_xlfn.RANK.AVG(O13,$O$8:$O$13),"") -> 3.5 | I13: =SUMIFS($I$18:$I$32,$B$18:$B$32,$B13)+SUMIFS($J$18:$J$32,$C$18:$C$32,$B13) -> 0 | J13: =SUMIFS($E$18:$E$32,$B$18:$B$32,$B13)+SUMIFS($G$18:$G$32,$C$18:$C$32,$B13) -> 0 | K13: : | L13: =SUMIFS($G$18:$G$32,$B$18:$B$32,$B13)+SUMIFS($E$18:$E$32,$C$18:$C$32,$B13) -> 0 | M13: =J13-L13 -> 0 | O13: =I13+(M13/1000)+(J13/100000) -> 0 | P13: 6 | Q13: =INDEX($B$8:$B$13,MATCH(P13,$H$8:$H$13,0)) -> #N/A
A16: Rozpis zápasů
B17: A | C17: B | D17: Rozhodčí | E17: Výsledek | H17: Výkop | I17: Dom | J17: Hos | Y17: =36/6 -> 6
A18: 1. | B18: =B8 -> Tatra Kosatky | C18: =B13 -> 1880 Frankfurt Black | F18: : | H18: =Parametry!$B$3 -> 0.41666667 | I18: =IF(AND(ISNUMBER(E18),ISNUMBER(G18)),IF(G18<E18,3,IF(G18>E18,1,2)),"") | J18: =IF(AND(ISNUMBER(E18),ISNUMBER(G18)),IF(G18>E18,3,IF(G18<E18,1,2)),"") | K18: =IF(AND(ISNUMBER(F18),ISNUMBER(I18)),IF(I18>F18,3,IF(I18<F18,1,2)),"")
A19: 2. | B19: =B9 -> Říčany Modrá Mašina | C19: =B12 -> Bizoni Přelouč | F19: : | H19: =H18+$P$3/60/24 -> 0.42291667 | I19: =IF(AND(ISNUMBER(E19),ISNUMBER(G19)),IF(G19<E19,3,IF(G19>E19,1,2)),"") | J19: =IF(AND(ISNUMBER(E19),ISNUMBER(G19)),IF(G19>E19,3,IF(G19<E19,1,2)),"")
A20: 3. | B20: =B10 -> RC Bystrc Orange | C20: =B11 -> Rugby Olymp | F20: : | H20: =H19+$P$3/60/24 -> 0.42916667 | I20: =IF(AND(ISNUMBER(E20),ISNUMBER(G20)),IF(G20<E20,3,IF(G20>E20,1,2)),"") | J20: =IF(AND(ISNUMBER(E20),ISNUMBER(G20)),IF(G20>E20,3,IF(G20<E20,1,2)),"")
A21: 4. | B21: =B8 -> Tatra Kosatky | C21: =B9 -> Říčany Modrá Mašina | F21: : | H21: =H20+$P$3/60/24 -> 0.43541667 | I21: =IF(AND(ISNUMBER(E21),ISNUMBER(G21)),IF(G21<E21,3,IF(G21>E21,1,2)),"") | J21: =IF(AND(ISNUMBER(E21),ISNUMBER(G21)),IF(G21>E21,3,IF(G21<E21,1,2)),"")
A22: 5. | B22: =B13 -> 1880 Frankfurt Black | C22: =B11 -> Rugby Olymp | F22: : | H22: =H21+$P$3/60/24 -> 0.44166667 | I22: =IF(AND(ISNUMBER(E22),ISNUMBER(G22)),IF(G22<E22,3,IF(G22>E22,1,2)),"") | J22: =IF(AND(ISNUMBER(E22),ISNUMBER(G22)),IF(G22>E22,3,IF(G22<E22,1,2)),"")
A23: 6. | B23: =B12 -> Bizoni Přelouč | C23: =B10 -> RC Bystrc Orange | F23: : | H23: =H22+$P$3/60/24 -> 0.44791667 | I23: =IF(AND(ISNUMBER(E23),ISNUMBER(G23)),IF(G23<E23,3,IF(G23>E23,1,2)),"") | J23: =IF(AND(ISNUMBER(E23),ISNUMBER(G23)),IF(G23>E23,3,IF(G23<E23,1,2)),"")
A24: 7. | B24: =B9 -> Říčany Modrá Mašina | C24: =B13 -> 1880 Frankfurt Black | F24: : | H24: =H23+$P$3/60/24 -> 0.45416667 | I24: =IF(AND(ISNUMBER(E24),ISNUMBER(G24)),IF(G24<E24,3,IF(G24>E24,1,2)),"") | J24: =IF(AND(ISNUMBER(E24),ISNUMBER(G24)),IF(G24>E24,3,IF(G24<E24,1,2)),"")
A25: 8. | B25: =B11 -> Rugby Olymp | C25: =B12 -> Bizoni Přelouč | F25: : | H25: =H24+$P$3/60/24 -> 0.46041667 | I25: =IF(AND(ISNUMBER(E25),ISNUMBER(G25)),IF(G25<E25,3,IF(G25>E25,1,2)),"") | J25: =IF(AND(ISNUMBER(E25),ISNUMBER(G25)),IF(G25>E25,3,IF(G25<E25,1,2)),"")
A26: 9. | B26: =B10 -> RC Bystrc Orange | C26: =B8 -> Tatra Kosatky | F26: : | H26: =H25+$P$3/60/24 -> 0.46666667 | I26: =IF(AND(ISNUMBER(E26),ISNUMBER(G26)),IF(G26<E26,3,IF(G26>E26,1,2)),"") | J26: =IF(AND(ISNUMBER(E26),ISNUMBER(G26)),IF(G26>E26,3,IF(G26<E26,1,2)),"")
A27: 10. | B27: =B13 -> 1880 Frankfurt Black | C27: =B12 -> Bizoni Přelouč | F27: : | H27: =H26+$P$3/60/24 -> 0.47291667 | I27: =IF(AND(ISNUMBER(E27),ISNUMBER(G27)),IF(G27<E27,3,IF(G27>E27,1,2)),"") | J27: =IF(AND(ISNUMBER(E27),ISNUMBER(G27)),IF(G27>E27,3,IF(G27<E27,1,2)),"")
A28: 11. | B28: =B9 -> Říčany Modrá Mašina | C28: =B10 -> RC Bystrc Orange | F28: : | H28: =H27+$P$3/60/24 -> 0.47916667 | I28: =IF(AND(ISNUMBER(E28),ISNUMBER(G28)),IF(G28<E28,3,IF(G28>E28,1,2)),"") | J28: =IF(AND(ISNUMBER(E28),ISNUMBER(G28)),IF(G28>E28,3,IF(G28<E28,1,2)),"")
A29: 12. | B29: =B8 -> Tatra Kosatky | C29: =B11 -> Rugby Olymp | F29: : | H29: =H28+$P$3/60/24 -> 0.48541667 | I29: =IF(AND(ISNUMBER(E29),ISNUMBER(G29)),IF(G29<E29,3,IF(G29>E29,1,2)),"") | J29: =IF(AND(ISNUMBER(E29),ISNUMBER(G29)),IF(G29>E29,3,IF(G29<E29,1,2)),"")
A30: 13. | B30: =B10 -> RC Bystrc Orange | C30: =B13 -> 1880 Frankfurt Black | F30: : | H30: =H29+$P$3/60/24 -> 0.49166667 | I30: =IF(AND(ISNUMBER(E30),ISNUMBER(G30)),IF(G30<E30,3,IF(G30>E30,1,2)),"") | J30: =IF(AND(ISNUMBER(E30),ISNUMBER(G30)),IF(G30>E30,3,IF(G30<E30,1,2)),"")
A31: 14. | B31: =B11 -> Rugby Olymp | C31: =B9 -> Říčany Modrá Mašina | F31: : | H31: =H30+$P$3/60/24 -> 0.49791667 | I31: =IF(AND(ISNUMBER(E31),ISNUMBER(G31)),IF(G31<E31,3,IF(G31>E31,1,2)),"") | J31: =IF(AND(ISNUMBER(E31),ISNUMBER(G31)),IF(G31>E31,3,IF(G31<E31,1,2)),"")
A32: 15. | B32: =B12 -> Bizoni Přelouč | C32: =B8 -> Tatra Kosatky | F32: : | H32: =H31+$P$3/60/24 -> 0.50416667 | I32: =IF(AND(ISNUMBER(E32),ISNUMBER(G32)),IF(G32<E32,3,IF(G32>E32,1,2)),"") | J32: =IF(AND(ISNUMBER(E32),ISNUMBER(G32)),IF(G32>E32,3,IF(G32<E32,1,2)),"")

Sheet F
A1: 46123 | C1: PYRF U8 | D1: pro 6 týmů
A2: RC PRAGA PRAHA | C2: SKUPINA "F" | D2: Čas hry: | E2: =Parametry!$B$5&" x "&Parametry!$B$4&" min" -> 1 x 6 min
D3: Pauza: | E3: =Parametry!$B$6 -> 3 | I3: =VALUE(LEFT($E$2,SEARCH("x",$E$2)-1))*VALUE(MID($E$2,SEARCH("x",$E$2)+1,2))+VALUE(LEFT($E$3,2)) -> 9 | J3: min celkem | P3: =(VALUE(LEFT($E$2,SEARCH("x",$E$2)-1))*VALUE(MID($E$2,SEARCH("x",$E$2)+1,2))+VALUE(LEFT($E$3,2))) -> 9
A6: Mužstva
B7: Nasazení mužstev | D7: Pořadí zápasů | H7: rank | I7: pts | J7: tries f. | L7: tries a. | M7: diff. | O7: rank_pts
