Workbook

Sheet Pools
B1: PYRF girls U18, girls U16
B2: RC Slavia Praha 18.october 2025
B3: Rozdělení do skupin/Seeding of the Groups
B5: Dívky U18
B6: 1 | C6: The OlyOlo
B7: 2 | C7: Super 3
B8: 3 | C8: Moravia rugby
B9: 4 | C9: Zagrebački ragbi Savez
B11: Dívky U16
B12: 1 | C12: Super 3
B13: 2 | C13: PeŘí
B14: 3 | C14: BVP Academy
B15: 4 | C15: Moravia rugby

Sheet Matches
B1: =Pools!B1 -> PYRF girls U18, girls U16
B2: =Pools!B2 -> RC Slavia Praha 18.october 2025
B3: Pořadí zápasů / Timetable
M4: Statistics / Statistik | AR4: First Team / Home | AV4: Second Team / Away
B5: zápas | C5: čas | I5: výsledek | M5: try | Q5: conversion | U5: penalty | Y5: dropgoal | AC5: sent off | AG5: sin bin | AK5: check | AN5: points | AR5: won | AS5: drawn | AT5: lost | AV5: won | AW5: drawn | AX5: lost
B6: match | C6: time | I6: score | M6: essai | Q6: transformation | U6: pénalité | Y6: drop | AC6: carton rouge | AG6: carton jaune | AN6: points | AR6: victoire | AS6: égalité | AT6: défaite | AV6: victoire | AW6: égalité | AX6: défaite
F7: 2. | M7: Versuch | Q7: Erhöhung | U7: Strafkick | Y7: Dropkick | AC7: Rot | AG7: Gelb | AK7: Prüfung | AN7: Punkte | AR7: Sieg | AS7: Unent. | AT7: Niederl. | AV7: Sieg | AW7: Unent. | AX7: Niederl.
B9: U16 | C9: 0.45833333 | D9: 1 | E9: =Pools!C12 -> Super 3 | F9: - | G9: =Pools!C15 -> Moravia rugby | H9: 4 | J9: :
B10: U18 | C10: 0.47222222 | D10: 1 | E10: =Pools!C6 -> The OlyOlo | F10: - | G10: =Pools!C9 -> Zagrebački ragbi Savez | H10: 4 | J10: :
B11: U16 | C11: 0.48611111 | D11: 2 | E11: =Pools!C13 -> PeŘí | F11: - | G11: =Pools!C14 -> BVP Academy | H11: 3 | J11: :
B12: U18 | C12: 0.5 | D12: 2 | E12: =Pools!C7 -> Super 3 | F12: - | G12: =Pools!C8 -> Moravia rugby | H12: 3 | J12: : | N12: : | R12: : | V12: : | Z12: : | AD12: : | AH12: : | AK12: =(M12+O12)*5+(Q12+S12)*2+(U12+W12)*3+(Y12+AA12)*3 -> 0 | AL12: =IF(AK12=0," ",IF(AK12=(I12+K12),"ok","false")) | AN12: =IF(ISBLANK(I12)," ",IF(I12>K12,3,IF(I12=K12,2,1))) | AO12: : | AP12: =IF(ISBLANK(K12)," ",IF(K12>I12,3,IF(K12=I12,2,1))) | AR12: =IF($AN12=" "," ",IF($AN12=3,1," ")) | AS12: =IF($AN12=" "," ",IF($AN12=2,1," ")) | AT12: =IF($AN12=" "," ",IF($AN12=1,1," ")) | AV12: =IF($AP12=" "," ",IF($AP12=3,1," ")) | AW12: =IF($AP12=" "," ",IF($AP12=2,1," ")) | AX12: =IF($AP12=" "," ",IF($AP12=1,1," "))
B13: U16 | C13: 0.51388889 | D13: 1 | E13: =Pools!C12 -> Super 3 | F13: - | G13: =Pools!C14 -> BVP Academy | H13: 3 | J13: :
B14: U18 | C14: 0.52777778 | D14: 1 | E14: =Pools!C6 -> The OlyOlo | F14: - | G14: =Pools!C8 -> Moravia rugby | H14: 3 | J14: : | N14: : | R14: : | V14: : | Z14: : | AD14: : | AH14: : | AK14: =(M14+O14)*5+(Q14+S14)*2+(U14+W14)*3+(Y14+AA14)*3 -> 0 | AL14: =IF(AK14=0," ",IF(AK14=(I14+K14),"ok","false")) | AN14: =IF(ISBLANK(I14)," ",IF(I14>K14,3,IF(I14=K14,2,1))) | AO14: : | AP14: =IF(ISBLANK(K14)," ",IF(K14>I14,3,IF(K14=I14,2,1))) | AR14: =IF($AN14=" "," ",IF($AN14=3,1," ")) | AS14: =IF($AN14=" "," ",IF($AN14=2,1," ")) | AT14: =IF($AN14=" "," ",IF($AN14=1,1," ")) | AV14: =IF($AP14=" "," ",IF($AP14=3,1," ")) | AW14: =IF($AP14=" "," ",IF($AP14=2,1," ")) | AX14: =IF($AP14=" "," ",IF($AP14=1,1," "))
B15: U16 | C15: 0.54166667 | D15: 2 | E15: =Pools!C13 -> PeŘí | F15: - | G15: =Pools!C15 -> Moravia rugby | H15: 4 | J15: :
B16: U18 | C16: 0.55555556 | D16: 2 | E16: =Pools!C7 -> Super 3 | F16: - | G16: =Pools!C9 -> Zagrebački ragbi Savez | H16: 4 | J16: : | N16: : | R16: : | V16: : | Z16: : | AD16: : | AH16: : | AK16: =(M16+O16)*5+(Q16+S16)*2+(U16+W16)*3+(Y16+AA16)*3 -> 0 | AL16: =IF(AK16=0," ",IF(AK16=(I16+K16),"ok","false")) | AN16: =IF(ISBLANK(I16)," ",IF(I16>K16,3,IF(I16=K16,2,1))) | AO16: : | AP16: =IF(ISBLANK(K16)," ",IF(K16>I16,3,IF(K16=I16,2,1))) | AR16: =IF($AN16=" "," ",IF($AN16=3,1," ")) | AS16: =IF($AN16=" "," ",IF($AN16=2,1," ")) | AT16: =IF($AN16=" "," ",IF($AN16=1,1," ")) | AV16: =IF($AP16=" "," ",IF($AP16=3,1," ")) | AW16: =IF($AP16=" "," ",IF($AP16=2,1," ")) | AX16: =IF($AP16=" "," ",IF($AP16=1,1," "))
B17: U16 | C17: 0.56944444 | D17: 3 | E17: =Pools!C14 -> BVP Academy | F17: - | G17: =Pools!C15 -> Moravia rugby | H17: 4 | J17: :
B18: U18 | C18: 0.58333333 | D18: 3 | E18: =Pools!C8 -> Moravia rugby | F18: - | G18: =Pools!C9 -> Zagrebački ragbi Savez | H18: 4 | J18: :
B19: U16 | C19: 0.59722222 | D19: 1 | E19: =Pools!C12 -> Super 3 | G19: =Pools!C13 -> PeŘí | H19: 2 | J19: :
B20: U18 | C20: 0.61111111 | D20: 1 | E20: =Pools!C6 -> The OlyOlo | F20: - | G20: =Pools!C7 -> Super 3 | H20: 2 | J20: :

Sheet Final Standing
B1: =Pools!B1 -> PYRF girls U18, girls U16
B2: =Pools!B2 -> RC Slavia Praha 18.october 2025
B3: Konečné pořadí / Final Standing
C5: TABULKA | D5: Z | E5: V | F5: R | G5: P | H5: + | I5: - | J5: ± | K5: Body
C11: 3body výhra, 2b remíza, 1b prohra, v případě rovnosti bodů rozhoduje o pořadí celkové skóre
B13: KONEČNÉ POŘADÍ
B14: 1.
B15: 2.
B16: 3.
B17: 4.
